BEGIN:VCALENDAR
VERSION:2.0
PRODID:-//Wehr Nature Center - ECPv6.15.20//NONSGML v1.0//EN
CALSCALE:GREGORIAN
METHOD:PUBLISH
X-WR-CALNAME:Wehr Nature Center
X-ORIGINAL-URL:https://www.wehrnaturecenter.com/es
X-WR-CALDESC:Eventos para Wehr Nature Center
REFRESH-INTERVAL;VALUE=DURATION:PT1H
X-Robots-Tag:noindex
X-PUBLISHED-TTL:PT1H
BEGIN:VTIMEZONE
TZID:America/Chicago
BEGIN:DAYLIGHT
TZOFFSETFROM:-0600
TZOFFSETTO:-0500
TZNAME:CDT
DTSTART:20250309T080000
END:DAYLIGHT
BEGIN:STANDARD
TZOFFSETFROM:-0500
TZOFFSETTO:-0600
TZNAME:CST
DTSTART:20251102T070000
END:STANDARD
BEGIN:DAYLIGHT
TZOFFSETFROM:-0600
TZOFFSETTO:-0500
TZNAME:CDT
DTSTART:20260308T080000
END:DAYLIGHT
BEGIN:STANDARD
TZOFFSETFROM:-0500
TZOFFSETTO:-0600
TZNAME:CST
DTSTART:20261101T070000
END:STANDARD
BEGIN:DAYLIGHT
TZOFFSETFROM:-0600
TZOFFSETTO:-0500
TZNAME:CDT
DTSTART:20270314T080000
END:DAYLIGHT
BEGIN:STANDARD
TZOFFSETFROM:-0500
TZOFFSETTO:-0600
TZNAME:CST
DTSTART:20271107T070000
END:STANDARD
END:VTIMEZONE
BEGIN:VEVENT
DTSTART;TZID=America/Chicago:20260424T170000
DTEND;TZID=America/Chicago:20260424T180000
DTSTAMP:20260424T090721
CREATED:20260322T194634Z
LAST-MODIFIED:20260404T150447Z
UID:10002631-1777050000-1777053600@www.wehrnaturecenter.com
SUMMARY:Operation Recon Nature for Veterans
DESCRIPTION:Veterans from all service branches – Active Duty\, Reserve\, and retired personnel are invited to attend monthly outings at Wehr Nature Center. For approximately one to one and a half hours\, we will travel on the trails of Wehr Nature Center to share camaraderie and experience seasonal nature happenings.\n\n\n\nFree\, but pre-registration is required. Contact Holly at: holly.walz@milwaukecountywi.gov for questions.
URL:https://www.wehrnaturecenter.com/es/event/operation-recon-nature-for-veterans-2/
LOCATION:Wehr Nature Center
CATEGORIES:Adult,Other Activities
ATTACH;FMTTYPE=image/png:https://www.wehrnaturecenter.com/wp-content/uploads/2026/03/operation-recon-green-reduced-1.png
END:VEVENT
BEGIN:VEVENT
DTSTART;TZID=America/Chicago:20260425T080000
DTEND;TZID=America/Chicago:20260425T120000
DTSTAMP:20260424T090721
CREATED:20260210T144613Z
LAST-MODIFIED:20260311T031136Z
UID:10002249-1777104000-1777118400@www.wehrnaturecenter.com
SUMMARY:Birding Beyond the Feeder: Bird ID
DESCRIPTION:What was that bird that just flew by? Learn basic bird identification using behavior\, field marks\, shape\, and more\, then test your new skills on a hike. Binocular and field guide/bird app information included. Bonus pre-class hike at 7 am. Accessible options available; contact carol.howard@milwaukeecountywi.gov or 414-425-8550. Ages 13 and older. \nFees: $20 per person; $17 for Milwaukee County residents; $15 for Friends of Wehr members; $5 \nReservations guarantee a space. Walk-ins are welcome as space allows.
URL:https://www.wehrnaturecenter.com/es/event/birding-beyond-the-feeder-bird-id-2/
LOCATION:Wehr Nature Center
CATEGORIES:Adult
ATTACH;FMTTYPE=image/png:https://www.wehrnaturecenter.com/wp-content/uploads/2025/02/29.png
END:VEVENT
BEGIN:VEVENT
DTSTART;TZID=America/Chicago:20260425T100000
DTEND;TZID=America/Chicago:20260425T130000
DTSTAMP:20260424T090721
CREATED:20260322T194350Z
LAST-MODIFIED:20260422T134611Z
UID:10002633-1777111200-1777122000@www.wehrnaturecenter.com
SUMMARY:Great Whitnall Park Clean-up
DESCRIPTION:Join us to make an impact at Wehr Nature Center and throughout Whitnall Park by joining the Great Whitnall Park Clean-up. We will provide gloves\, bags\, and buckets for the clean-up\, but feel free to bring your own. Together\, we can make a huge difference in the health of our environment. All volunteers should meet at the visitor center at 10 am to receive their assigned area\, equipment\, and instructions.\n\n\nPlease register by emailing Sophia.Detweiler@milwaukeecountywi.gov\, so we have your supplies ready.\n\nThis program is open to all ages and abilities. If you’d like to request accommodations\, please contact our Access & Inclusion Coordinator Emily Brown at Emily.Brown@milwaukeecountywi.gov.
URL:https://www.wehrnaturecenter.com/es/event/great-whitnall-park-clean-up-3/
LOCATION:Wehr Nature Center
CATEGORIES:Adult,Children & Family,Scout & Youth Group
ATTACH;FMTTYPE=image/png:https://www.wehrnaturecenter.com/wp-content/uploads/2026/03/whitnall-cleanup-reduced.png
END:VEVENT
BEGIN:VEVENT
DTSTART;TZID=America/Chicago:20260425T100000
DTEND;TZID=America/Chicago:20260425T130000
DTSTAMP:20260424T090721
CREATED:20260407T163107Z
LAST-MODIFIED:20260407T163725Z
UID:10002650-1777111200-1777122000@www.wehrnaturecenter.com
SUMMARY:Teen Conservation Club
DESCRIPTION:Starts March 28!\nJoin us for a monthly teen club focused on conservation\, community\, and hands-on impact! \nThis group is designed to help build community for like-minded teens (ages 13-17) and give back while exploring their interest in the natural world. This club meets monthly on the last Saturday of the month at Wehr Nature Center from 12-2pm. View topic calendar \nRegistration is required and can be done through this link: Teen Conservation Club Registration \nMembers must participate in 6 out of 12 meetings each year. Please contact Sophie with any questions Sophia.Detweiler@milwaukeecountywi.gov
URL:https://www.wehrnaturecenter.com/es/event/teen-conservation-club-2/
LOCATION:Wehr Nature Center
CATEGORIES:Clubs & Community
ATTACH;FMTTYPE=image/png:https://www.wehrnaturecenter.com/wp-content/uploads/2026/01/teen-conservation-club-resized.png
END:VEVENT
BEGIN:VEVENT
DTSTART;TZID=America/Chicago:20260425T150000
DTEND;TZID=America/Chicago:20260425T160000
DTSTAMP:20260424T090721
CREATED:20260322T195207Z
LAST-MODIFIED:20260404T150418Z
UID:10002636-1777129200-1777132800@www.wehrnaturecenter.com
SUMMARY:Operation Recon Nature - Veterans and Families
DESCRIPTION:Veterans and their families are invited to attend monthly walks held here at Wehr Nature Center. We will have springtime fun on the trails of Wehr Nature Center\, experiencing and observing seasonal nature happenings. \nFree\, but pre-registration is required. Contact Holly at: holly.walz@milwaukecountywi.gov for questions.
URL:https://www.wehrnaturecenter.com/es/event/operation-recon-nature-veterans-and-families-4/
LOCATION:Wehr Nature Center
CATEGORIES:Children & Family,Other Activities
ATTACH;FMTTYPE=image/png:https://www.wehrnaturecenter.com/wp-content/uploads/2026/03/operation-recon-green-reduced-1.png
END:VEVENT
BEGIN:VEVENT
DTSTART;TZID=America/Chicago:20260426T080000
DTEND;TZID=America/Chicago:20260426T100000
DTSTAMP:20260424T090721
CREATED:20251218T114955Z
LAST-MODIFIED:20251218T115333Z
UID:10002169-1777190400-1777197600@www.wehrnaturecenter.com
SUMMARY:Wehr Birders
DESCRIPTION:Meet in front of the visitor center for a Sunday morning birding hike led by volunteers and fellow birders. All levels of experience are welcome. No fee or registration required\, $5 parking fee applies to non-FOW members.
URL:https://www.wehrnaturecenter.com/es/event/wehr-birders-2/2026-04-26/
LOCATION:Wehr Nature Center
CATEGORIES:Adult,Clubs & Community
ATTACH;FMTTYPE=image/webp:https://www.wehrnaturecenter.com/wp-content/uploads/2024/03/birders.webp
END:VEVENT
BEGIN:VEVENT
DTSTART;TZID=America/Chicago:20260426T130000
DTEND;TZID=America/Chicago:20260426T140000
DTSTAMP:20260424T090721
CREATED:20260311T140922Z
LAST-MODIFIED:20260403T145329Z
UID:10002274-1777208400-1777212000@www.wehrnaturecenter.com
SUMMARY:Rain Barrel Workshop
DESCRIPTION:Presented by Milwaukee Metropolitan Sewage District \nLearn how to install and care for a rain barrel! In this rain barrel workshop brought to you by MMSD and the Fresh Coast Guardians\, participants will learn about water conservation and the many benefits of using rain barrels. Rain barrels capture rainwater from your roof that you can use later when it’s dry for thirsty gardens. They also help prevent rain from becoming polluted stormwater runoff\, the biggest remaining threat to clean rivers and our Great Lakes. One FREE rain barrel will be provided per owner-occupied household at this workshop. You must live in Milwaukee County (excluding South Milwaukee) to receive a free rain barrel. \nFee: Free\, but registration is required through MMSD
URL:https://www.wehrnaturecenter.com/es/event/rain-barrel-workshop/
LOCATION:Wehr Nature Center
CATEGORIES:Adult
ATTACH;FMTTYPE=image/jpeg:https://www.wehrnaturecenter.com/wp-content/uploads/2026/04/rain-barrel.jpg
END:VEVENT
BEGIN:VEVENT
DTSTART;TZID=America/Chicago:20260426T130000
DTEND;TZID=America/Chicago:20260426T150000
DTSTAMP:20260424T090721
CREATED:20260311T032056Z
LAST-MODIFIED:20260311T032056Z
UID:10002268-1777208400-1777215600@www.wehrnaturecenter.com
SUMMARY:Guided Forest Bathing
DESCRIPTION:Unplug\, slow down\, and de-stress from your daily routine. Inspired by the Japanese practice of Shinrin-yoku\, a certified forest bathing guide will lead you through a series of sensory-based invitations designed to relax\, restore\, and deepen your relationship with the natural world. \nFor ages 18+ \nFee: $35 per person (includes parking); $25 for Friends of Wehr members \nOnline registration is required two days before the program
URL:https://www.wehrnaturecenter.com/es/event/guided-forest-bathing-6/
LOCATION:Wehr Nature Center
CATEGORIES:Adult
ATTACH;FMTTYPE=image/webp:https://www.wehrnaturecenter.com/wp-content/uploads/2024/04/ForestBathing.webp
END:VEVENT
BEGIN:VEVENT
DTSTART;TZID=America/Chicago:20260429T103000
DTEND;TZID=America/Chicago:20260429T113000
DTSTAMP:20260424T090721
CREATED:20260322T153150Z
LAST-MODIFIED:20260327T112842Z
UID:10002579-1777458600-1777462200@www.wehrnaturecenter.com
SUMMARY:Hike for Health
DESCRIPTION:Explore Wehr’s trails together with fellow community members and enjoy camaraderie\, exercise and fun. No signup necessary. The group meets on Wednesdays at 10:30 am in front of the Visitor Center. No fee or registration required\, $5 parking fee applies to non-FOW members.
URL:https://www.wehrnaturecenter.com/es/event/hike-for-health-3/2026-04-29/
CATEGORIES:Clubs & Community
ATTACH;FMTTYPE=image/jpeg:https://www.wehrnaturecenter.com/wp-content/uploads/2025/01/Hike-for-Health.jpg
END:VEVENT
BEGIN:VEVENT
DTSTART;VALUE=DATE:20260430
DTEND;VALUE=DATE:20260501
DTSTAMP:20260424T090721
CREATED:20251130T173200Z
LAST-MODIFIED:20251130T173200Z
UID:10002061-1777507200-1777593599@www.wehrnaturecenter.com
SUMMARY:Free Parking Thursday
DESCRIPTION:
URL:https://www.wehrnaturecenter.com/es/event/free-parking-thursday-5/2026-04-30/
LOCATION:Wehr Nature Center
END:VEVENT
END:VCALENDAR