BEGIN:VCALENDAR
VERSION:2.0
PRODID:-//Wehr Nature Center - ECPv6.15.18//NONSGML v1.0//EN
CALSCALE:GREGORIAN
METHOD:PUBLISH
X-WR-CALNAME:Wehr Nature Center
X-ORIGINAL-URL:https://www.wehrnaturecenter.com/es
X-WR-CALDESC:Eventos para Wehr Nature Center
REFRESH-INTERVAL;VALUE=DURATION:PT1H
X-Robots-Tag:noindex
X-PUBLISHED-TTL:PT1H
BEGIN:VTIMEZONE
TZID:America/Chicago
BEGIN:DAYLIGHT
TZOFFSETFROM:-0600
TZOFFSETTO:-0500
TZNAME:CDT
DTSTART:20250309T080000
END:DAYLIGHT
BEGIN:STANDARD
TZOFFSETFROM:-0500
TZOFFSETTO:-0600
TZNAME:CST
DTSTART:20251102T070000
END:STANDARD
BEGIN:DAYLIGHT
TZOFFSETFROM:-0600
TZOFFSETTO:-0500
TZNAME:CDT
DTSTART:20260308T080000
END:DAYLIGHT
BEGIN:STANDARD
TZOFFSETFROM:-0500
TZOFFSETTO:-0600
TZNAME:CST
DTSTART:20261101T070000
END:STANDARD
BEGIN:DAYLIGHT
TZOFFSETFROM:-0600
TZOFFSETTO:-0500
TZNAME:CDT
DTSTART:20270314T080000
END:DAYLIGHT
BEGIN:STANDARD
TZOFFSETFROM:-0500
TZOFFSETTO:-0600
TZNAME:CST
DTSTART:20271107T070000
END:STANDARD
END:VTIMEZONE
BEGIN:VEVENT
DTSTART;TZID=America/Chicago:20260420T093000
DTEND;TZID=America/Chicago:20260420T103000
DTSTAMP:20260420T061034
CREATED:20260311T023802Z
LAST-MODIFIED:20260322T151232Z
UID:10002258-1776677400-1776681000@www.wehrnaturecenter.com
SUMMARY:Nature Nauts: Crazy Over Cranes
DESCRIPTION:Discover how you compare to Wisconsin’s tallest bird. Learn how to “talk” like a crane\, do the “crane dance”\, and find out what it takes to raise a baby crane. NatureNauts will make and take home their own craft crane. \n\n\nA program for 4-6-year-olds with an adult. \nFee: $12 per person; $10 for Milwaukee County residents; $7 for Friends of Wehr (FOW) members; $5 parking fee applies for non-FOW members. \nOnline registration is required two days prior to the program.
URL:https://www.wehrnaturecenter.com/es/event/nature-nauts-crazy-over-cranes-2/
LOCATION:Wehr Nature Center
CATEGORIES:Children & Family
ATTACH;FMTTYPE=image/png:https://www.wehrnaturecenter.com/wp-content/uploads/2024/09/Cool-Cranes-Calendar-Image-11.png
END:VEVENT
END:VCALENDAR