BEGIN:VCALENDAR
VERSION:2.0
PRODID:-//Wehr Nature Center - ECPv6.15.18//NONSGML v1.0//EN
CALSCALE:GREGORIAN
METHOD:PUBLISH
X-WR-CALNAME:Wehr Nature Center
X-ORIGINAL-URL:https://www.wehrnaturecenter.com/es
X-WR-CALDESC:Eventos para Wehr Nature Center
REFRESH-INTERVAL;VALUE=DURATION:PT1H
X-Robots-Tag:noindex
X-PUBLISHED-TTL:PT1H
BEGIN:VTIMEZONE
TZID:America/Chicago
BEGIN:DAYLIGHT
TZOFFSETFROM:-0600
TZOFFSETTO:-0500
TZNAME:CDT
DTSTART:20250309T080000
END:DAYLIGHT
BEGIN:STANDARD
TZOFFSETFROM:-0500
TZOFFSETTO:-0600
TZNAME:CST
DTSTART:20251102T070000
END:STANDARD
BEGIN:DAYLIGHT
TZOFFSETFROM:-0600
TZOFFSETTO:-0500
TZNAME:CDT
DTSTART:20260308T080000
END:DAYLIGHT
BEGIN:STANDARD
TZOFFSETFROM:-0500
TZOFFSETTO:-0600
TZNAME:CST
DTSTART:20261101T070000
END:STANDARD
BEGIN:DAYLIGHT
TZOFFSETFROM:-0600
TZOFFSETTO:-0500
TZNAME:CDT
DTSTART:20270314T080000
END:DAYLIGHT
BEGIN:STANDARD
TZOFFSETFROM:-0500
TZOFFSETTO:-0600
TZNAME:CST
DTSTART:20271107T070000
END:STANDARD
BEGIN:DAYLIGHT
TZOFFSETFROM:-0600
TZOFFSETTO:-0500
TZNAME:CDT
DTSTART:20280312T080000
END:DAYLIGHT
BEGIN:STANDARD
TZOFFSETFROM:-0500
TZOFFSETTO:-0600
TZNAME:CST
DTSTART:20281105T070000
END:STANDARD
END:VTIMEZONE
BEGIN:VEVENT
DTSTART;TZID=America/Chicago:20260425T100000
DTEND;TZID=America/Chicago:20260425T130000
DTSTAMP:20260420T102709
CREATED:20260407T163107Z
LAST-MODIFIED:20260407T163725Z
UID:10002650-1777111200-1777122000@www.wehrnaturecenter.com
SUMMARY:Teen Conservation Club
DESCRIPTION:Starts March 28!\nJoin us for a monthly teen club focused on conservation\, community\, and hands-on impact! \nThis group is designed to help build community for like-minded teens (ages 13-17) and give back while exploring their interest in the natural world. This club meets monthly on the last Saturday of the month at Wehr Nature Center from 12-2pm. View topic calendar \nRegistration is required and can be done through this link: Teen Conservation Club Registration \nMembers must participate in 6 out of 12 meetings each year. Please contact Sophie with any questions Sophia.Detweiler@milwaukeecountywi.gov
URL:https://www.wehrnaturecenter.com/es/event/teen-conservation-club-2/
LOCATION:Wehr Nature Center
CATEGORIES:Clubs & Community
ATTACH;FMTTYPE=image/png:https://www.wehrnaturecenter.com/wp-content/uploads/2026/01/teen-conservation-club-resized.png
END:VEVENT
BEGIN:VEVENT
DTSTART;TZID=America/Chicago:20260530T120000
DTEND;TZID=America/Chicago:20260530T140000
DTSTAMP:20260420T102709
CREATED:20260407T163900Z
LAST-MODIFIED:20260407T163900Z
UID:10002651-1780142400-1780149600@www.wehrnaturecenter.com
SUMMARY:Teen Conservation Club
DESCRIPTION:Starts March 28!\nJoin us for a monthly teen club focused on conservation\, community\, and hands-on impact! \nThis group is designed to help build community for like-minded teens (ages 13-17) and give back while exploring their interest in the natural world. This club meets monthly on the last Saturday of the month at Wehr Nature Center from 12-2pm. View topic calendar \nRegistration is required and can be done through this link: Teen Conservation Club Registration \nMembers must participate in 6 out of 12 meetings each year. Please contact Sophie with any questions Sophia.Detweiler@milwaukeecountywi.gov
URL:https://www.wehrnaturecenter.com/es/event/teen-conservation-club-4/
LOCATION:Wehr Nature Center
CATEGORIES:Clubs & Community
ATTACH;FMTTYPE=image/png:https://www.wehrnaturecenter.com/wp-content/uploads/2026/01/teen-conservation-club-resized.png
END:VEVENT
BEGIN:VEVENT
DTSTART;TZID=America/Chicago:20260627T120000
DTEND;TZID=America/Chicago:20260627T140000
DTSTAMP:20260420T102709
CREATED:20260407T163937Z
LAST-MODIFIED:20260407T163937Z
UID:10002652-1782561600-1782568800@www.wehrnaturecenter.com
SUMMARY:Teen Conservation Club
DESCRIPTION:Starts March 28!\nJoin us for a monthly teen club focused on conservation\, community\, and hands-on impact! \nThis group is designed to help build community for like-minded teens (ages 13-17) and give back while exploring their interest in the natural world. This club meets monthly on the last Saturday of the month at Wehr Nature Center from 12-2pm. View topic calendar \nRegistration is required and can be done through this link: Teen Conservation Club Registration \nMembers must participate in 6 out of 12 meetings each year. Please contact Sophie with any questions Sophia.Detweiler@milwaukeecountywi.gov
URL:https://www.wehrnaturecenter.com/es/event/teen-conservation-club-5/
LOCATION:Wehr Nature Center
CATEGORIES:Clubs & Community
ATTACH;FMTTYPE=image/png:https://www.wehrnaturecenter.com/wp-content/uploads/2026/01/teen-conservation-club-resized.png
END:VEVENT
BEGIN:VEVENT
DTSTART;TZID=America/Chicago:20260725T120000
DTEND;TZID=America/Chicago:20260725T140000
DTSTAMP:20260420T102709
CREATED:20260407T163954Z
LAST-MODIFIED:20260407T163954Z
UID:10002653-1784980800-1784988000@www.wehrnaturecenter.com
SUMMARY:Teen Conservation Club
DESCRIPTION:Starts March 28!\nJoin us for a monthly teen club focused on conservation\, community\, and hands-on impact! \nThis group is designed to help build community for like-minded teens (ages 13-17) and give back while exploring their interest in the natural world. This club meets monthly on the last Saturday of the month at Wehr Nature Center from 12-2pm. View topic calendar \nRegistration is required and can be done through this link: Teen Conservation Club Registration \nMembers must participate in 6 out of 12 meetings each year. Please contact Sophie with any questions Sophia.Detweiler@milwaukeecountywi.gov
URL:https://www.wehrnaturecenter.com/es/event/teen-conservation-club-6/
LOCATION:Wehr Nature Center
CATEGORIES:Clubs & Community
ATTACH;FMTTYPE=image/png:https://www.wehrnaturecenter.com/wp-content/uploads/2026/01/teen-conservation-club-resized.png
END:VEVENT
BEGIN:VEVENT
DTSTART;TZID=America/Chicago:20260829T120000
DTEND;TZID=America/Chicago:20260829T140000
DTSTAMP:20260420T102709
CREATED:20260407T164025Z
LAST-MODIFIED:20260407T164025Z
UID:10002654-1788004800-1788012000@www.wehrnaturecenter.com
SUMMARY:Teen Conservation Club
DESCRIPTION:Starts March 28!\nJoin us for a monthly teen club focused on conservation\, community\, and hands-on impact! \nThis group is designed to help build community for like-minded teens (ages 13-17) and give back while exploring their interest in the natural world. This club meets monthly on the last Saturday of the month at Wehr Nature Center from 12-2pm. View topic calendar \nRegistration is required and can be done through this link: Teen Conservation Club Registration \nMembers must participate in 6 out of 12 meetings each year. Please contact Sophie with any questions Sophia.Detweiler@milwaukeecountywi.gov
URL:https://www.wehrnaturecenter.com/es/event/teen-conservation-club-7/
LOCATION:Wehr Nature Center
CATEGORIES:Clubs & Community
ATTACH;FMTTYPE=image/png:https://www.wehrnaturecenter.com/wp-content/uploads/2026/01/teen-conservation-club-resized.png
END:VEVENT
BEGIN:VEVENT
DTSTART;TZID=America/Chicago:20260926T120000
DTEND;TZID=America/Chicago:20260926T140000
DTSTAMP:20260420T102709
CREATED:20260407T164041Z
LAST-MODIFIED:20260407T164041Z
UID:10002655-1790424000-1790431200@www.wehrnaturecenter.com
SUMMARY:Teen Conservation Club
DESCRIPTION:Starts March 28!\nJoin us for a monthly teen club focused on conservation\, community\, and hands-on impact! \nThis group is designed to help build community for like-minded teens (ages 13-17) and give back while exploring their interest in the natural world. This club meets monthly on the last Saturday of the month at Wehr Nature Center from 12-2pm. View topic calendar \nRegistration is required and can be done through this link: Teen Conservation Club Registration \nMembers must participate in 6 out of 12 meetings each year. Please contact Sophie with any questions Sophia.Detweiler@milwaukeecountywi.gov
URL:https://www.wehrnaturecenter.com/es/event/teen-conservation-club-8/
LOCATION:Wehr Nature Center
CATEGORIES:Clubs & Community
ATTACH;FMTTYPE=image/png:https://www.wehrnaturecenter.com/wp-content/uploads/2026/01/teen-conservation-club-resized.png
END:VEVENT
BEGIN:VEVENT
DTSTART;TZID=America/Chicago:20261031T120000
DTEND;TZID=America/Chicago:20261031T140000
DTSTAMP:20260420T102709
CREATED:20260407T164100Z
LAST-MODIFIED:20260407T164100Z
UID:10002656-1793448000-1793455200@www.wehrnaturecenter.com
SUMMARY:Teen Conservation Club
DESCRIPTION:Starts March 28!\nJoin us for a monthly teen club focused on conservation\, community\, and hands-on impact! \nThis group is designed to help build community for like-minded teens (ages 13-17) and give back while exploring their interest in the natural world. This club meets monthly on the last Saturday of the month at Wehr Nature Center from 12-2pm. View topic calendar \nRegistration is required and can be done through this link: Teen Conservation Club Registration \nMembers must participate in 6 out of 12 meetings each year. Please contact Sophie with any questions Sophia.Detweiler@milwaukeecountywi.gov
URL:https://www.wehrnaturecenter.com/es/event/teen-conservation-club-9/
LOCATION:Wehr Nature Center
CATEGORIES:Clubs & Community
ATTACH;FMTTYPE=image/png:https://www.wehrnaturecenter.com/wp-content/uploads/2026/01/teen-conservation-club-resized.png
END:VEVENT
BEGIN:VEVENT
DTSTART;TZID=America/Chicago:20261128T120000
DTEND;TZID=America/Chicago:20261128T140000
DTSTAMP:20260420T102709
CREATED:20260407T164115Z
LAST-MODIFIED:20260407T164115Z
UID:10002657-1795867200-1795874400@www.wehrnaturecenter.com
SUMMARY:Teen Conservation Club
DESCRIPTION:Starts March 28!\nJoin us for a monthly teen club focused on conservation\, community\, and hands-on impact! \nThis group is designed to help build community for like-minded teens (ages 13-17) and give back while exploring their interest in the natural world. This club meets monthly on the last Saturday of the month at Wehr Nature Center from 12-2pm. View topic calendar \nRegistration is required and can be done through this link: Teen Conservation Club Registration \nMembers must participate in 6 out of 12 meetings each year. Please contact Sophie with any questions Sophia.Detweiler@milwaukeecountywi.gov
URL:https://www.wehrnaturecenter.com/es/event/teen-conservation-club-10/
LOCATION:Wehr Nature Center
CATEGORIES:Clubs & Community
ATTACH;FMTTYPE=image/png:https://www.wehrnaturecenter.com/wp-content/uploads/2026/01/teen-conservation-club-resized.png
END:VEVENT
BEGIN:VEVENT
DTSTART;TZID=America/Chicago:20261219T120000
DTEND;TZID=America/Chicago:20261219T140000
DTSTAMP:20260420T102709
CREATED:20260407T164539Z
LAST-MODIFIED:20260407T164539Z
UID:10002660-1797681600-1797688800@www.wehrnaturecenter.com
SUMMARY:Teen Conservation Club
DESCRIPTION:Starts March 28!\nJoin us for a monthly teen club focused on conservation\, community\, and hands-on impact! \nThis group is designed to help build community for like-minded teens (ages 13-17) and give back while exploring their interest in the natural world. This club meets monthly on the last Saturday of the month at Wehr Nature Center from 12-2pm. View topic calendar \nRegistration is required and can be done through this link: Teen Conservation Club Registration \nMembers must participate in 6 out of 12 meetings each year. Please contact Sophie with any questions Sophia.Detweiler@milwaukeecountywi.gov
URL:https://www.wehrnaturecenter.com/es/event/teen-conservation-club-3/
LOCATION:Wehr Nature Center
CATEGORIES:Clubs & Community
ATTACH;FMTTYPE=image/png:https://www.wehrnaturecenter.com/wp-content/uploads/2026/01/teen-conservation-club-resized.png
END:VEVENT
BEGIN:VEVENT
DTSTART;TZID=America/Chicago:20270130T120000
DTEND;TZID=America/Chicago:20270130T140000
DTSTAMP:20260420T102709
CREATED:20260407T164131Z
LAST-MODIFIED:20260407T164149Z
UID:10002658-1801310400-1801317600@www.wehrnaturecenter.com
SUMMARY:Teen Conservation Club
DESCRIPTION:Join us for a monthly teen club focused on conservation\, community\, and hands-on impact! \nThis group is designed to help build community for like-minded teens (ages 13-17) and give back while exploring their interest in the natural world. This club meets monthly on the last Saturday of the month at Wehr Nature Center from 12-2pm. View topic calendar \nRegistration is required and can be done through this link: Teen Conservation Club Registration \nMembers must participate in 6 out of 12 meetings each year. Please contact Sophie with any questions Sophia.Detweiler@milwaukeecountywi.gov
URL:https://www.wehrnaturecenter.com/es/event/teen-conservation-club-11/
LOCATION:Wehr Nature Center
CATEGORIES:Clubs & Community
ATTACH;FMTTYPE=image/png:https://www.wehrnaturecenter.com/wp-content/uploads/2026/01/teen-conservation-club-resized.png
END:VEVENT
BEGIN:VEVENT
DTSTART;TZID=America/Chicago:20270227T120000
DTEND;TZID=America/Chicago:20270227T140000
DTSTAMP:20260420T102709
CREATED:20260407T164204Z
LAST-MODIFIED:20260407T164204Z
UID:10002659-1803729600-1803736800@www.wehrnaturecenter.com
SUMMARY:Teen Conservation Club
DESCRIPTION:Join us for a monthly teen club focused on conservation\, community\, and hands-on impact! \nThis group is designed to help build community for like-minded teens (ages 13-17) and give back while exploring their interest in the natural world. This club meets monthly on the last Saturday of the month at Wehr Nature Center from 12-2pm. View topic calendar \nRegistration is required and can be done through this link: Teen Conservation Club Registration \nMembers must participate in 6 out of 12 meetings each year. Please contact Sophie with any questions Sophia.Detweiler@milwaukeecountywi.gov
URL:https://www.wehrnaturecenter.com/es/event/teen-conservation-club-12/
LOCATION:Wehr Nature Center
CATEGORIES:Clubs & Community
ATTACH;FMTTYPE=image/png:https://www.wehrnaturecenter.com/wp-content/uploads/2026/01/teen-conservation-club-resized.png
END:VEVENT
END:VCALENDAR