BEGIN:VCALENDAR
VERSION:2.0
PRODID:-//Wehr Nature Center - ECPv6.15.20//NONSGML v1.0//EN
CALSCALE:GREGORIAN
METHOD:PUBLISH
X-WR-CALNAME:Wehr Nature Center
X-ORIGINAL-URL:https://www.wehrnaturecenter.com
X-WR-CALDESC:Events for Wehr Nature Center
REFRESH-INTERVAL;VALUE=DURATION:PT1H
X-Robots-Tag:noindex
X-PUBLISHED-TTL:PT1H
BEGIN:VTIMEZONE
TZID:America/Chicago
BEGIN:DAYLIGHT
TZOFFSETFROM:-0600
TZOFFSETTO:-0500
TZNAME:CDT
DTSTART:20230312T080000
END:DAYLIGHT
BEGIN:STANDARD
TZOFFSETFROM:-0500
TZOFFSETTO:-0600
TZNAME:CST
DTSTART:20231105T070000
END:STANDARD
BEGIN:DAYLIGHT
TZOFFSETFROM:-0600
TZOFFSETTO:-0500
TZNAME:CDT
DTSTART:20240310T080000
END:DAYLIGHT
BEGIN:STANDARD
TZOFFSETFROM:-0500
TZOFFSETTO:-0600
TZNAME:CST
DTSTART:20241103T070000
END:STANDARD
BEGIN:DAYLIGHT
TZOFFSETFROM:-0600
TZOFFSETTO:-0500
TZNAME:CDT
DTSTART:20250309T080000
END:DAYLIGHT
BEGIN:STANDARD
TZOFFSETFROM:-0500
TZOFFSETTO:-0600
TZNAME:CST
DTSTART:20251102T070000
END:STANDARD
END:VTIMEZONE
BEGIN:VEVENT
DTSTART;TZID=America/Chicago:20240504T070000
DTEND;TZID=America/Chicago:20240504T110000
DTSTAMP:20260420T200037
CREATED:20240327T203205Z
LAST-MODIFIED:20251218T115335Z
UID:10000444-1714806000-1714820400@www.wehrnaturecenter.com
SUMMARY:Birding Beyond the Feeder
DESCRIPTION:What was that bird that just flew by? Learn basic bird identification using behavior\, field marks\, shape\, and more\, then test your new skills on a hike. Binocular and field guide/bird app information included. Bonus pre-class hike at 7 am. Accessible options available; contact carol.howard@milwaukeecountywi.gov or 414-425-8550. Ages 13 and older.
URL:https://www.wehrnaturecenter.com/event/birding-beyond-the-feeder/
LOCATION:Wehr Nature Center
CATEGORIES:Adult
ATTACH;FMTTYPE=image/webp:https://www.wehrnaturecenter.com/wp-content/uploads/2024/04/Chickadee.webp
END:VEVENT
BEGIN:VEVENT
DTSTART;TZID=America/Chicago:20240512T130000
DTEND;TZID=America/Chicago:20240512T150000
DTSTAMP:20260420T200037
CREATED:20240327T204449Z
LAST-MODIFIED:20240504T143509Z
UID:10000450-1715518800-1715526000@www.wehrnaturecenter.com
SUMMARY:Forest Bathing Walk
DESCRIPTION:Unplug\, slow down\, and de-stress from your daily routine. Inspired by the Japanese practice of Shinrin-yoku\, a certified forest bathing guide will lead you through a series of sensory-based invitations designed to relax\, restore\, and deepen your relationship with the natural world. For ages 18 and up.
URL:https://www.wehrnaturecenter.com/event/forest-bathing-walk/2024-05-12/
LOCATION:Wehr Nature Center
CATEGORIES:Adult
ATTACH;FMTTYPE=image/webp:https://www.wehrnaturecenter.com/wp-content/uploads/2024/04/ForestBathing.webp
END:VEVENT
BEGIN:VEVENT
DTSTART;TZID=America/Chicago:20240517T093000
DTEND;TZID=America/Chicago:20240517T120000
DTSTAMP:20260420T200037
CREATED:20250215T170521Z
LAST-MODIFIED:20251218T115334Z
UID:10001394-1715938200-1715947200@www.wehrnaturecenter.com
SUMMARY:Birding Beyond the Feeder: Birding by Ear
DESCRIPTION:Expand your birding skills by taking your bird identification to the next level. Beginner and experienced birdwatchers and birders alike are invited to come and learn to identify birds by their songs and calls. We’ll use ornithologist tips and tricks from the field to learn 10-ish species local to Wehr Nature Center and test new skills with live birds on the trails. \nFees: $20 per person; $17 for Milwaukee County residents; $15 for Friends of Wehr Members \nReservations guarantee a space. Walk-ins are welcome as space allows.
URL:https://www.wehrnaturecenter.com/event/birding-beyond-the-feeder-birding-by-ear/
LOCATION:Wehr Nature Center
CATEGORIES:Adult
END:VEVENT
BEGIN:VEVENT
DTSTART;TZID=America/Chicago:20240517T140000
DTEND;TZID=America/Chicago:20240517T160000
DTSTAMP:20260420T200037
CREATED:20240327T203656Z
LAST-MODIFIED:20240514T214722Z
UID:10000446-1715954400-1715961600@www.wehrnaturecenter.com
SUMMARY:Fridays Afield
DESCRIPTION:Join us for a botany walk where we’ll learn a few of the blooming plants at Wehr Nature Center. On this walk\, we’ll venture through various plant communities and learn about the plant communities in which plants are growing. Program for adults and kids age 13+ \n\nReservations guarantee a space. Walk-ins are welcome as space allows. \n\nFee: $5 per person; $5 parking fee applies to non-Friends of Wehr members
URL:https://www.wehrnaturecenter.com/event/fridays-afield/
LOCATION:Wehr Nature Center
CATEGORIES:Adult
ATTACH;FMTTYPE=image/png:https://www.wehrnaturecenter.com/wp-content/uploads/2024/04/hepatica-fridays-afield.png
END:VEVENT
BEGIN:VEVENT
DTSTART;TZID=America/Chicago:20240524T170000
DTEND;TZID=America/Chicago:20240524T180000
DTSTAMP:20260420T200037
CREATED:20240502T144321Z
LAST-MODIFIED:20240502T153440Z
UID:10000526-1716570000-1716573600@www.wehrnaturecenter.com
SUMMARY:Operation Recon Nature - Adults
DESCRIPTION:Veterans from all branches of service – Active Duty\, Reserve\, and Retired personnel and their families are invited to attend monthly walks held here at Wehr Nature Center. We will have frosty fun on the trails of Wehr Nature Center experiencing and observing seasonal nature happenings. \nHikes specific to veterans and veterans and their families are typically held the final Friday and Saturday of every month. Contact Veterans Liason\, Holly Walz with questions.
URL:https://www.wehrnaturecenter.com/event/operation-recon-nature-6/
LOCATION:Wehr Nature Center
CATEGORIES:Adult,Other Activities
ATTACH;FMTTYPE=image/webp:https://www.wehrnaturecenter.com/wp-content/uploads/2024/04/OperationReconNature-1024x768-1.webp
END:VEVENT
BEGIN:VEVENT
DTSTART;TZID=America/Chicago:20240525T150000
DTEND;TZID=America/Chicago:20240525T160000
DTSTAMP:20260420T200037
CREATED:20240327T210933Z
LAST-MODIFIED:20240404T190852Z
UID:10000646-1716649200-1716652800@www.wehrnaturecenter.com
SUMMARY:Operation Recon Nature
DESCRIPTION:Veterans from all branches of service – Active Duty\, Reserve\, and Retired personnel and their families are invited to attend monthly walks held here at Wehr Nature Center. We will have frosty fun on the trails of Wehr Nature Center experiencing and observing seasonal nature happenings. \nHikes specific to veterans and veterans and their families are typically held the final Friday and Saturday of every month. Contact Veterans Liason\, Holly Walz with questions.
URL:https://www.wehrnaturecenter.com/event/operation-recon-nature-2/2024-05-25/
LOCATION:Wehr Nature Center
CATEGORIES:Adult,Other Activities
ATTACH;FMTTYPE=image/webp:https://www.wehrnaturecenter.com/wp-content/uploads/2024/04/OperationReconNature-1024x768-1.webp
END:VEVENT
END:VCALENDAR