BEGIN:VCALENDAR
VERSION:2.0
PRODID:-//Wehr Nature Center - ECPv6.15.20//NONSGML v1.0//EN
CALSCALE:GREGORIAN
METHOD:PUBLISH
X-WR-CALNAME:Wehr Nature Center
X-ORIGINAL-URL:https://www.wehrnaturecenter.com
X-WR-CALDESC:Events for Wehr Nature Center
REFRESH-INTERVAL;VALUE=DURATION:PT1H
X-Robots-Tag:noindex
X-PUBLISHED-TTL:PT1H
BEGIN:VTIMEZONE
TZID:America/Chicago
BEGIN:DAYLIGHT
TZOFFSETFROM:-0600
TZOFFSETTO:-0500
TZNAME:CDT
DTSTART:20230312T080000
END:DAYLIGHT
BEGIN:STANDARD
TZOFFSETFROM:-0500
TZOFFSETTO:-0600
TZNAME:CST
DTSTART:20231105T070000
END:STANDARD
BEGIN:DAYLIGHT
TZOFFSETFROM:-0600
TZOFFSETTO:-0500
TZNAME:CDT
DTSTART:20240310T080000
END:DAYLIGHT
BEGIN:STANDARD
TZOFFSETFROM:-0500
TZOFFSETTO:-0600
TZNAME:CST
DTSTART:20241103T070000
END:STANDARD
BEGIN:DAYLIGHT
TZOFFSETFROM:-0600
TZOFFSETTO:-0500
TZNAME:CDT
DTSTART:20250309T080000
END:DAYLIGHT
BEGIN:STANDARD
TZOFFSETFROM:-0500
TZOFFSETTO:-0600
TZNAME:CST
DTSTART:20251102T070000
END:STANDARD
END:VTIMEZONE
BEGIN:VEVENT
DTSTART;TZID=America/Chicago:20240608T093000
DTEND;TZID=America/Chicago:20240608T120000
DTSTAMP:20260420T162955
CREATED:20240528T212350Z
LAST-MODIFIED:20240528T212350Z
UID:10001092-1717839000-1717848000@www.wehrnaturecenter.com
SUMMARY:Milwaukee County Parks Bumble Bee Monitoring Program Orientation
DESCRIPTION:Are you interested in becoming a volunteer Bumble Bee Monitor for Milwaukee County? Attend this free workshop to become one today! Wisconsin is home to 20 species of native bumblebees\, many of which live here in Milwaukee\, including the federally endangered rusty-patched bumble bee). Monitors help gather data on bumble bees in natural areas around the county using their smartphone or camera. The workshop will introduce you to monitoring methods and bee identification. \nPlease contact Halley at ParksComSci@milwaukeecountywi.gov for information and to register by Thursday\, June 6th.
URL:https://www.wehrnaturecenter.com/event/milwaukee-county-parks-bumble-bee-monitoring-program-orientation/
LOCATION:Wehr Nature Center
CATEGORIES:Adult
END:VEVENT
BEGIN:VEVENT
DTSTART;TZID=America/Chicago:20240609T130000
DTEND;TZID=America/Chicago:20240609T150000
DTSTAMP:20260420T162955
CREATED:20240430T140542Z
LAST-MODIFIED:20240521T142044Z
UID:10000449-1717938000-1717945200@www.wehrnaturecenter.com
SUMMARY:Guided Forest Bathing Walk
DESCRIPTION:Unplug\, slow down\, and de-stress from your daily routine. Inspired by the Japanese practice of Shinrin-yoku\, a certified forest bathing guide will lead you through a series of sensory-based invitations designed to relax\, restore\, and deepen your relationship with the natural world. \nFor ages 18+ \nFee: $35 per person (includes parking); $25 for Friends of Wehr members \nOnline registration is required two days before the program
URL:https://www.wehrnaturecenter.com/event/forest-bathing-walk-2/
LOCATION:Wehr Nature Center
CATEGORIES:Adult
ATTACH;FMTTYPE=image/webp:https://www.wehrnaturecenter.com/wp-content/uploads/2024/04/ForestBathing.webp
END:VEVENT
BEGIN:VEVENT
DTSTART;TZID=America/Chicago:20240615T130000
DTEND;TZID=America/Chicago:20240615T160000
DTSTAMP:20260420T162955
CREATED:20240418T182745Z
LAST-MODIFIED:20240520T161102Z
UID:10000715-1718456400-1718467200@www.wehrnaturecenter.com
SUMMARY:50th Anniversary Community Celebration
DESCRIPTION:Wehr Nature Center is celebrating an exciting milestone in 2024 as it marks 50 years of being A Place for all Seasons\, A Place for Everyone.  “Rooted and Growing”\, the community is invited to pay tribute to the past and look forward to the bright future of the nature center at this celebratory open house-style event. \nYou can Expect:  \n\n1 pm – Remarks from community leaders including the County Executive\, Executive Director of Milwaukee County Parks\, Center Director and others paying tribute to Wehr’s past and revealing future plans\,\n1:30 pm – Collective hike to the oak savanna for a commemorative tree planting sponsored by Johnson’s Nursery in partnership with Retzer Nature Center (who is also celebrating their 50th anniversary)\,\n2 pm – Explore the trails via a self-guided scavenger hunt to get out and enjoy nature and learn more about the variety of initiatives and programs available to you at Wehr\,\n3:30 pm – Enjoy light refreshments\, cake\, and a puppet show in the Amphitheater.\n\nEvents from 1-4 pm: \n\nShare your memory at Wehr’s 50th anniversary memory display including photos\, milestones\, and stories of Wehr’s community impact\,\nParticipate in a youth photo contest\, learn from our community partners and clubs\, enjoy birthday cake\, and more!\n\nEvent is accessible thanks to our partnership with Access Ability Wisconsin (AAW). Reserve an all-terrain wheelchair and RSVP HERE.  \nFormer staff are invited to stay after for a social. \nThis event is sponsored by the Todd Wehr Foundation\, Inc.
URL:https://www.wehrnaturecenter.com/event/50th-anniversary-community-celebration/
LOCATION:Wehr Nature Center
CATEGORIES:Adult,Children & Family,Special Event
ATTACH;FMTTYPE=image/png:https://www.wehrnaturecenter.com/wp-content/uploads/2024/04/aerial-image-50-years.png
END:VEVENT
BEGIN:VEVENT
DTSTART;TZID=America/Chicago:20240622T090000
DTEND;TZID=America/Chicago:20240622T100000
DTSTAMP:20260420T162955
CREATED:20240521T144553Z
LAST-MODIFIED:20240521T150817Z
UID:10001079-1719046800-1719050400@www.wehrnaturecenter.com
SUMMARY:Flow Yoga in the Amphitheater
DESCRIPTION:Join us for a 60-minute\, all-levels vinyasa flow class in partnership with The Barefoot Haven in Greendale. Listen to the birds\, grab some friends and enjoy your morning in a serene nature-based setting. Dress for the weather.  Learn more and register at: https://www.thebarefoothaven.com/schedule \nFee: $15 per session; $5 parking fee applies to non-Friends of Wehr members
URL:https://www.wehrnaturecenter.com/event/flow-yoga/
LOCATION:Wehr Nature Center
CATEGORIES:Adult
END:VEVENT
BEGIN:VEVENT
DTSTART;TZID=America/Chicago:20240628T140000
DTEND;TZID=America/Chicago:20240628T160000
DTSTAMP:20260420T162955
CREATED:20240430T143946Z
LAST-MODIFIED:20240520T195049Z
UID:10000950-1719583200-1719590400@www.wehrnaturecenter.com
SUMMARY:Fridays Afield
DESCRIPTION:Join us for a botany walk where we’ll learn a few of the blooming plants at Wehr Nature Center. On this walk\, we’ll venture through various plant communities and learn about the plant communities in which plants are growing. \n\n\n\n\n\n\n\n\n\n\n\n\nProgram for adults and kids age 13+ \nFee: $5 per person; $5 parking fee applies to non-Friends of Wehr members \nReservations guarantee a space. Walk-ins are welcome as space allows.
URL:https://www.wehrnaturecenter.com/event/fridays-afield-3/
LOCATION:Wehr Nature Center
CATEGORIES:Adult
ATTACH;FMTTYPE=image/png:https://www.wehrnaturecenter.com/wp-content/uploads/2024/04/hepatica-fridays-afield.png
END:VEVENT
BEGIN:VEVENT
DTSTART;TZID=America/Chicago:20240628T170000
DTEND;TZID=America/Chicago:20240628T180000
DTSTAMP:20260420T162955
CREATED:20240528T192130Z
LAST-MODIFIED:20240528T192520Z
UID:10001083-1719594000-1719597600@www.wehrnaturecenter.com
SUMMARY:Operation Recon Nature - Adults
DESCRIPTION:Veterans from all service branches – Active Duty\, Reserve\, and Retired personnel are invited to attend monthly walks at Wehr Nature Center. For approximately one to one and a half hours\, we will travel on the trails of Wehr Nature Center to share camaraderie and experience seasonal nature happenings. \nNo fee but online registration is required. Contact holly.walz@milwaukeecountywi.gov with questions.
URL:https://www.wehrnaturecenter.com/event/operation-recon-nature-7/
LOCATION:Wehr Nature Center
CATEGORIES:Adult,Other Activities
ATTACH;FMTTYPE=image/webp:https://www.wehrnaturecenter.com/wp-content/uploads/2024/04/OperationReconNature-1024x768-1.webp
END:VEVENT
END:VCALENDAR