BEGIN:VCALENDAR
VERSION:2.0
PRODID:-//Wehr Nature Center - ECPv6.15.20//NONSGML v1.0//EN
CALSCALE:GREGORIAN
METHOD:PUBLISH
X-WR-CALNAME:Wehr Nature Center
X-ORIGINAL-URL:https://www.wehrnaturecenter.com
X-WR-CALDESC:Events for Wehr Nature Center
REFRESH-INTERVAL;VALUE=DURATION:PT1H
X-Robots-Tag:noindex
X-PUBLISHED-TTL:PT1H
BEGIN:VTIMEZONE
TZID:America/Chicago
BEGIN:DAYLIGHT
TZOFFSETFROM:-0600
TZOFFSETTO:-0500
TZNAME:CDT
DTSTART:20230312T080000
END:DAYLIGHT
BEGIN:STANDARD
TZOFFSETFROM:-0500
TZOFFSETTO:-0600
TZNAME:CST
DTSTART:20231105T070000
END:STANDARD
BEGIN:DAYLIGHT
TZOFFSETFROM:-0600
TZOFFSETTO:-0500
TZNAME:CDT
DTSTART:20240310T080000
END:DAYLIGHT
BEGIN:STANDARD
TZOFFSETFROM:-0500
TZOFFSETTO:-0600
TZNAME:CST
DTSTART:20241103T070000
END:STANDARD
BEGIN:DAYLIGHT
TZOFFSETFROM:-0600
TZOFFSETTO:-0500
TZNAME:CDT
DTSTART:20250309T080000
END:DAYLIGHT
BEGIN:STANDARD
TZOFFSETFROM:-0500
TZOFFSETTO:-0600
TZNAME:CST
DTSTART:20251102T070000
END:STANDARD
END:VTIMEZONE
BEGIN:VEVENT
DTSTART;TZID=America/Chicago:20240426T170000
DTEND;TZID=America/Chicago:20240426T180000
DTSTAMP:20260420T213216
CREATED:20240327T210821Z
LAST-MODIFIED:20240528T191633Z
UID:10000525-1714150800-1714154400@www.wehrnaturecenter.com
SUMMARY:Operation Recon Nature
DESCRIPTION:Veterans from all branches of service – Active Duty\, Reserve\, and Retired personnel and their families are invited to attend monthly walks held here at Wehr Nature Center. We will have frosty fun on the trails of Wehr Nature Center experiencing and observing seasonal nature happenings. \nHikes specific to veterans and veterans and their families are typically held the final Friday and Saturday of every month. Contact Veterans Liason\, Holly Walz with questions.
URL:https://www.wehrnaturecenter.com/event/operation-recon-nature/
LOCATION:Wehr Nature Center
CATEGORIES:Adult,Other Activities
ATTACH;FMTTYPE=image/webp:https://www.wehrnaturecenter.com/wp-content/uploads/2024/04/OperationReconNature-1024x768-1.webp
END:VEVENT
BEGIN:VEVENT
DTSTART;TZID=America/Chicago:20240427T150000
DTEND;TZID=America/Chicago:20240427T160000
DTSTAMP:20260420T213216
CREATED:20240327T210933Z
LAST-MODIFIED:20240404T190852Z
UID:10000645-1714230000-1714233600@www.wehrnaturecenter.com
SUMMARY:Operation Recon Nature
DESCRIPTION:Veterans from all branches of service – Active Duty\, Reserve\, and Retired personnel and their families are invited to attend monthly walks held here at Wehr Nature Center. We will have frosty fun on the trails of Wehr Nature Center experiencing and observing seasonal nature happenings. \nHikes specific to veterans and veterans and their families are typically held the final Friday and Saturday of every month. Contact Veterans Liason\, Holly Walz with questions.
URL:https://www.wehrnaturecenter.com/event/operation-recon-nature-2/2024-04-27/
LOCATION:Wehr Nature Center
CATEGORIES:Adult,Other Activities
ATTACH;FMTTYPE=image/webp:https://www.wehrnaturecenter.com/wp-content/uploads/2024/04/OperationReconNature-1024x768-1.webp
END:VEVENT
END:VCALENDAR