BEGIN:VCALENDAR
VERSION:2.0
PRODID:-//Wehr Nature Center - ECPv6.15.20//NONSGML v1.0//EN
CALSCALE:GREGORIAN
METHOD:PUBLISH
X-ORIGINAL-URL:https://www.wehrnaturecenter.com
X-WR-CALDESC:Events for Wehr Nature Center
REFRESH-INTERVAL;VALUE=DURATION:PT1H
X-Robots-Tag:noindex
X-PUBLISHED-TTL:PT1H
BEGIN:VTIMEZONE
TZID:America/Chicago
BEGIN:DAYLIGHT
TZOFFSETFROM:-0600
TZOFFSETTO:-0500
TZNAME:CDT
DTSTART:20230312T080000
END:DAYLIGHT
BEGIN:STANDARD
TZOFFSETFROM:-0500
TZOFFSETTO:-0600
TZNAME:CST
DTSTART:20231105T070000
END:STANDARD
BEGIN:DAYLIGHT
TZOFFSETFROM:-0600
TZOFFSETTO:-0500
TZNAME:CDT
DTSTART:20240310T080000
END:DAYLIGHT
BEGIN:STANDARD
TZOFFSETFROM:-0500
TZOFFSETTO:-0600
TZNAME:CST
DTSTART:20241103T070000
END:STANDARD
BEGIN:DAYLIGHT
TZOFFSETFROM:-0600
TZOFFSETTO:-0500
TZNAME:CDT
DTSTART:20250309T080000
END:DAYLIGHT
BEGIN:STANDARD
TZOFFSETFROM:-0500
TZOFFSETTO:-0600
TZNAME:CST
DTSTART:20251102T070000
END:STANDARD
END:VTIMEZONE
BEGIN:VEVENT
DTSTART;TZID=America/Chicago:20240628T140000
DTEND;TZID=America/Chicago:20240628T160000
DTSTAMP:20260420T180954
CREATED:20240430T143946Z
LAST-MODIFIED:20240520T195049Z
UID:10000950-1719583200-1719590400@www.wehrnaturecenter.com
SUMMARY:Fridays Afield
DESCRIPTION:Join us for a botany walk where we’ll learn a few of the blooming plants at Wehr Nature Center. On this walk\, we’ll venture through various plant communities and learn about the plant communities in which plants are growing. \n\n\n\n\n\n\n\n\n\n\n\n\nProgram for adults and kids age 13+ \nFee: $5 per person; $5 parking fee applies to non-Friends of Wehr members \nReservations guarantee a space. Walk-ins are welcome as space allows.
URL:https://www.wehrnaturecenter.com/event/fridays-afield-3/
LOCATION:Wehr Nature Center
CATEGORIES:Adult
ATTACH;FMTTYPE=image/png:https://www.wehrnaturecenter.com/wp-content/uploads/2024/04/hepatica-fridays-afield.png
END:VEVENT
BEGIN:VEVENT
DTSTART;TZID=America/Chicago:20240628T170000
DTEND;TZID=America/Chicago:20240628T180000
DTSTAMP:20260420T180954
CREATED:20240528T192130Z
LAST-MODIFIED:20240528T192520Z
UID:10001083-1719594000-1719597600@www.wehrnaturecenter.com
SUMMARY:Operation Recon Nature - Adults
DESCRIPTION:Veterans from all service branches – Active Duty\, Reserve\, and Retired personnel are invited to attend monthly walks at Wehr Nature Center. For approximately one to one and a half hours\, we will travel on the trails of Wehr Nature Center to share camaraderie and experience seasonal nature happenings. \nNo fee but online registration is required. Contact holly.walz@milwaukeecountywi.gov with questions.
URL:https://www.wehrnaturecenter.com/event/operation-recon-nature-7/
LOCATION:Wehr Nature Center
CATEGORIES:Adult,Other Activities
ATTACH;FMTTYPE=image/webp:https://www.wehrnaturecenter.com/wp-content/uploads/2024/04/OperationReconNature-1024x768-1.webp
END:VEVENT
END:VCALENDAR