BEGIN:VCALENDAR
VERSION:2.0
PRODID:-//Wehr Nature Center - ECPv6.15.20//NONSGML v1.0//EN
CALSCALE:GREGORIAN
METHOD:PUBLISH
X-ORIGINAL-URL:https://www.wehrnaturecenter.com
X-WR-CALDESC:Events for Wehr Nature Center
REFRESH-INTERVAL;VALUE=DURATION:PT1H
X-Robots-Tag:noindex
X-PUBLISHED-TTL:PT1H
BEGIN:VTIMEZONE
TZID:America/Chicago
BEGIN:DAYLIGHT
TZOFFSETFROM:-0600
TZOFFSETTO:-0500
TZNAME:CDT
DTSTART:20230312T080000
END:DAYLIGHT
BEGIN:STANDARD
TZOFFSETFROM:-0500
TZOFFSETTO:-0600
TZNAME:CST
DTSTART:20231105T070000
END:STANDARD
BEGIN:DAYLIGHT
TZOFFSETFROM:-0600
TZOFFSETTO:-0500
TZNAME:CDT
DTSTART:20240310T080000
END:DAYLIGHT
BEGIN:STANDARD
TZOFFSETFROM:-0500
TZOFFSETTO:-0600
TZNAME:CST
DTSTART:20241103T070000
END:STANDARD
BEGIN:DAYLIGHT
TZOFFSETFROM:-0600
TZOFFSETTO:-0500
TZNAME:CDT
DTSTART:20250309T080000
END:DAYLIGHT
BEGIN:STANDARD
TZOFFSETFROM:-0500
TZOFFSETTO:-0600
TZNAME:CST
DTSTART:20251102T070000
END:STANDARD
END:VTIMEZONE
BEGIN:VEVENT
DTSTART;TZID=America/Chicago:20240709T170000
DTEND;TZID=America/Chicago:20240709T200000
DTSTAMP:20260420T180934
CREATED:20240519T173157Z
LAST-MODIFIED:20240519T173541Z
UID:10001072-1720544400-1720555200@www.wehrnaturecenter.com
SUMMARY:Ladies Night Out Fundraiser
DESCRIPTION:Relax at our classy but casual evening event featuring 30 local businesswomen offering natural beauty products\, jewelry\, clothing\, handmade cards\, whimsical yard art\, and much more. A fantastic raffle with vendor-supplied items will support the Friends of Wehr as they help expand accessible\, inclusive programming and natural areas restoration. The admission fee includes parking\, snacks\, and beverages.  \nPre-register or pay at the door.  \nFees: $5 per person; $4 for Friends of Wehr members
URL:https://www.wehrnaturecenter.com/event/ladies-night-out-fundraiser/
LOCATION:Wehr Nature Center
CATEGORIES:Adult,Fundraiser
ATTACH;FMTTYPE=image/jpeg:https://www.wehrnaturecenter.com/wp-content/uploads/2024/05/ladies-night-out-scaled.jpg
END:VEVENT
END:VCALENDAR