BEGIN:VCALENDAR
VERSION:2.0
PRODID:-//Wehr Nature Center - ECPv6.15.20//NONSGML v1.0//EN
CALSCALE:GREGORIAN
METHOD:PUBLISH
X-ORIGINAL-URL:https://www.wehrnaturecenter.com
X-WR-CALDESC:Events for Wehr Nature Center
REFRESH-INTERVAL;VALUE=DURATION:PT1H
X-Robots-Tag:noindex
X-PUBLISHED-TTL:PT1H
BEGIN:VTIMEZONE
TZID:America/Chicago
BEGIN:DAYLIGHT
TZOFFSETFROM:-0600
TZOFFSETTO:-0500
TZNAME:CDT
DTSTART:20230312T080000
END:DAYLIGHT
BEGIN:STANDARD
TZOFFSETFROM:-0500
TZOFFSETTO:-0600
TZNAME:CST
DTSTART:20231105T070000
END:STANDARD
BEGIN:DAYLIGHT
TZOFFSETFROM:-0600
TZOFFSETTO:-0500
TZNAME:CDT
DTSTART:20240310T080000
END:DAYLIGHT
BEGIN:STANDARD
TZOFFSETFROM:-0500
TZOFFSETTO:-0600
TZNAME:CST
DTSTART:20241103T070000
END:STANDARD
BEGIN:DAYLIGHT
TZOFFSETFROM:-0600
TZOFFSETTO:-0500
TZNAME:CDT
DTSTART:20250309T080000
END:DAYLIGHT
BEGIN:STANDARD
TZOFFSETFROM:-0500
TZOFFSETTO:-0600
TZNAME:CST
DTSTART:20251102T070000
END:STANDARD
END:VTIMEZONE
BEGIN:VEVENT
DTSTART;TZID=America/Chicago:20240804T090000
DTEND;TZID=America/Chicago:20240804T110000
DTSTAMP:20260420T162529
CREATED:20240520T190855Z
LAST-MODIFIED:20240521T142123Z
UID:10001074-1722762000-1722769200@www.wehrnaturecenter.com
SUMMARY:Guided Forest Bathing Walk
DESCRIPTION:Unplug\, slow down\, and de-stress from your daily routine. Inspired by the Japanese practice of Shinrin-yoku\, a certified forest bathing guide will lead you through a series of sensory-based invitations designed to relax\, restore\, and deepen your relationship with the natural world. \nFor ages 18+ \nFee: $35 per person (includes parking); $25 for Friends of Wehr members \nOnline registration is required two days before the program
URL:https://www.wehrnaturecenter.com/event/guided-forest-bathing-walk/
LOCATION:Wehr Nature Center
CATEGORIES:Adult
ATTACH;FMTTYPE=image/webp:https://www.wehrnaturecenter.com/wp-content/uploads/2024/04/ForestBathing.webp
END:VEVENT
BEGIN:VEVENT
DTSTART;TZID=America/Chicago:20240809T140000
DTEND;TZID=America/Chicago:20240809T160000
DTSTAMP:20260420T162529
CREATED:20240520T193706Z
LAST-MODIFIED:20240520T195010Z
UID:10001076-1723212000-1723219200@www.wehrnaturecenter.com
SUMMARY:Fridays Afield
DESCRIPTION:Join us for a botany walk where we’ll learn a few of the blooming plants at Wehr Nature Center. On this walk\, we’ll venture through various plant communities and learn about the plant communities in which plants are growing. \nProgram for adults and kids age 13+ \nFee: $5 per person; $5 parking fee applies to non-Friends of Wehr members \nReservations guarantee a space. Walk-ins are welcome as space allows.
URL:https://www.wehrnaturecenter.com/event/fridays-afield-5/
LOCATION:Wehr Nature Center
CATEGORIES:Adult
ATTACH;FMTTYPE=image/png:https://www.wehrnaturecenter.com/wp-content/uploads/2024/04/hepatica-fridays-afield.png
END:VEVENT
BEGIN:VEVENT
DTSTART;TZID=America/Chicago:20240809T200000
DTEND;TZID=America/Chicago:20240809T220000
DTSTAMP:20260420T162529
CREATED:20240627T131823Z
LAST-MODIFIED:20240627T131823Z
UID:10001095-1723233600-1723240800@www.wehrnaturecenter.com
SUMMARY:Night Sky Viewing
DESCRIPTION:Location: Overlook parking lot on the east side of Mallard Lake \nLook through a telescope and learn about the night sky with experts from the Wehr Astronomical Society. Personal telescopes are welcome but not required. \nCloudy skies cancel the event. \nFree. No registration is required.
URL:https://www.wehrnaturecenter.com/event/night-sky-viewing/
LOCATION:Wehr Nature Center
CATEGORIES:Adult,Children & Family,Clubs & Community
END:VEVENT
END:VCALENDAR