BEGIN:VCALENDAR
VERSION:2.0
PRODID:-//Wehr Nature Center - ECPv6.15.18//NONSGML v1.0//EN
CALSCALE:GREGORIAN
METHOD:PUBLISH
X-WR-CALNAME:Wehr Nature Center
X-ORIGINAL-URL:https://www.wehrnaturecenter.com
X-WR-CALDESC:Events for Wehr Nature Center
REFRESH-INTERVAL;VALUE=DURATION:PT1H
X-Robots-Tag:noindex
X-PUBLISHED-TTL:PT1H
BEGIN:VTIMEZONE
TZID:America/Chicago
BEGIN:DAYLIGHT
TZOFFSETFROM:-0600
TZOFFSETTO:-0500
TZNAME:CDT
DTSTART:20230312T080000
END:DAYLIGHT
BEGIN:STANDARD
TZOFFSETFROM:-0500
TZOFFSETTO:-0600
TZNAME:CST
DTSTART:20231105T070000
END:STANDARD
BEGIN:DAYLIGHT
TZOFFSETFROM:-0600
TZOFFSETTO:-0500
TZNAME:CDT
DTSTART:20240310T080000
END:DAYLIGHT
BEGIN:STANDARD
TZOFFSETFROM:-0500
TZOFFSETTO:-0600
TZNAME:CST
DTSTART:20241103T070000
END:STANDARD
BEGIN:DAYLIGHT
TZOFFSETFROM:-0600
TZOFFSETTO:-0500
TZNAME:CDT
DTSTART:20250309T080000
END:DAYLIGHT
BEGIN:STANDARD
TZOFFSETFROM:-0500
TZOFFSETTO:-0600
TZNAME:CST
DTSTART:20251102T070000
END:STANDARD
END:VTIMEZONE
BEGIN:VEVENT
DTSTART;TZID=America/Chicago:20240920T140000
DTEND;TZID=America/Chicago:20240920T160000
DTSTAMP:20260420T062625
CREATED:20240430T144003Z
LAST-MODIFIED:20240520T194842Z
UID:10000951-1726840800-1726848000@www.wehrnaturecenter.com
SUMMARY:Fridays Afield
DESCRIPTION:Join us for a botany walk where we’ll learn a few of the blooming plants at Wehr Nature Center. On this walk\, we’ll venture through various plant communities and learn about the plant communities in which plants are growing. \nFor ages 13 and older. \nFee: $5 per person; $5 parking fee applies to non-Friends of Wehr members  \nReservations guarantee a space. Walk-ins are welcome as space allows.
URL:https://www.wehrnaturecenter.com/event/fridays-afield-4/
LOCATION:Wehr Nature Center
CATEGORIES:Adult
ATTACH;FMTTYPE=image/png:https://www.wehrnaturecenter.com/wp-content/uploads/2024/04/hepatica-fridays-afield.png
END:VEVENT
BEGIN:VEVENT
DTSTART;TZID=America/Chicago:20240920T193000
DTEND;TZID=America/Chicago:20240920T213000
DTSTAMP:20260420T062625
CREATED:20240627T132949Z
LAST-MODIFIED:20240627T134708Z
UID:10001099-1726860600-1726867800@www.wehrnaturecenter.com
SUMMARY:Bat Night for Adults
DESCRIPTION:Discover the fiction\, folklore\, and facts about bats\, nature’s only truly flying mammal. Join us for some “bat math”\, hold bat artifacts\, and hear live bats on the walk. Learn how you can participate in Community Science projects to help your neighborhood bats. \nWe will start inside and then use acoustic sensors during an hour-long “Bat Walk” through Whitnall Park.
URL:https://www.wehrnaturecenter.com/event/bat-night-for-adults/
LOCATION:Wehr Nature Center
CATEGORIES:Adult
ATTACH;FMTTYPE=image/jpeg:https://www.wehrnaturecenter.com/wp-content/uploads/2024/06/D8dtm65pix-2048.jpg
END:VEVENT
BEGIN:VEVENT
DTSTART;TZID=America/Chicago:20240921T090000
DTEND;TZID=America/Chicago:20240921T100000
DTSTAMP:20260420T062625
CREATED:20240521T151047Z
LAST-MODIFIED:20251218T115430Z
UID:10001082-1726909200-1726912800@www.wehrnaturecenter.com
SUMMARY:Flow Yoga in the Amphitheater
DESCRIPTION:Join us for a 60-minute\, all-levels vinyasa flow class in partnership with The Barefoot Haven in Greendale. Listen to the birds\, grab some friends and enjoy your morning in a serene nature-based setting. Dress for the weather.  Learn more and register at: https://www.thebarefoothaven.com/schedule \nFee: $15 per session; $5 parking fee applies to non-Friends of Wehr members
URL:https://www.wehrnaturecenter.com/event/flow-yoga-in-the-amphitheater-3/
LOCATION:Wehr Nature Center
CATEGORIES:Adult
END:VEVENT
BEGIN:VEVENT
DTSTART;TZID=America/Chicago:20240921T130000
DTEND;TZID=America/Chicago:20240921T150000
DTSTAMP:20260420T062625
CREATED:20240520T194723Z
LAST-MODIFIED:20240828T172242Z
UID:10001077-1726923600-1726930800@www.wehrnaturecenter.com
SUMMARY:Meet the Trees
DESCRIPTION:Join us to learn about the magnificent trees that grace Wehr Nature Center’s trails. We will practice using a simple tree identification key and enjoy the splendor of the forest. Held entirely outdoors\, this program will be rescheduled in the event of inclement weather.  \nFor ages 13 and older. \nFees: $12 per person; $10 for Milwaukee County residents; $7 for members of Friends of Wehr \nRegistration is required two days before the program \n 
URL:https://www.wehrnaturecenter.com/event/meet-the-trees/
LOCATION:Wehr Nature Center
CATEGORIES:Adult
END:VEVENT
END:VCALENDAR