BEGIN:VCALENDAR
VERSION:2.0
PRODID:-//Wehr Nature Center - ECPv6.15.18//NONSGML v1.0//EN
CALSCALE:GREGORIAN
METHOD:PUBLISH
X-WR-CALNAME:Wehr Nature Center
X-ORIGINAL-URL:https://www.wehrnaturecenter.com
X-WR-CALDESC:Events for Wehr Nature Center
REFRESH-INTERVAL;VALUE=DURATION:PT1H
X-Robots-Tag:noindex
X-PUBLISHED-TTL:PT1H
BEGIN:VTIMEZONE
TZID:America/Chicago
BEGIN:DAYLIGHT
TZOFFSETFROM:-0600
TZOFFSETTO:-0500
TZNAME:CDT
DTSTART:20240310T080000
END:DAYLIGHT
BEGIN:STANDARD
TZOFFSETFROM:-0500
TZOFFSETTO:-0600
TZNAME:CST
DTSTART:20241103T070000
END:STANDARD
BEGIN:DAYLIGHT
TZOFFSETFROM:-0600
TZOFFSETTO:-0500
TZNAME:CDT
DTSTART:20250309T080000
END:DAYLIGHT
BEGIN:STANDARD
TZOFFSETFROM:-0500
TZOFFSETTO:-0600
TZNAME:CST
DTSTART:20251102T070000
END:STANDARD
BEGIN:DAYLIGHT
TZOFFSETFROM:-0600
TZOFFSETTO:-0500
TZNAME:CDT
DTSTART:20260308T080000
END:DAYLIGHT
BEGIN:STANDARD
TZOFFSETFROM:-0500
TZOFFSETTO:-0600
TZNAME:CST
DTSTART:20261101T070000
END:STANDARD
END:VTIMEZONE
BEGIN:VEVENT
DTSTART;TZID=America/Chicago:20250802T160000
DTEND;TZID=America/Chicago:20250802T180000
DTSTAMP:20260420T091820
CREATED:20250325T185459Z
LAST-MODIFIED:20250724T193956Z
UID:10001418-1754150400-1754157600@www.wehrnaturecenter.com
SUMMARY:Brews and Botany
DESCRIPTION:Plants give us the drinks that make our mornings bearable and our evenings more enjoyable. Join us for an evening unleashing our curiosities behind Brews and Botany. Sample unique beverages provided by local small-businesses innovating plant-based drinks that are expanding our palate. Explore the flavor combinations of craft beer\, kombucha\, coffee\, and tea – all available in a beautiful natural setting paired with live music and an artisanal food truck.  \nThis event is rain or shine and highlights how Wehr Nature Center aspires to connect people of all ages\, abilities\, and backgrounds with nature– specifically\, through plants. All are welcome; however you must be 21 or older to sample alcoholic beverages. \nAttendees can expect: \n\nAlcoholic and non-alcoholic beverage samples from over six different area small business owners — now including a variety of coffee\, tea\, kombucha\, craft beer\, mead\, and THC beverages\,\nBotanical-hikes with trivia to back your favorite drinks\,\nLive acoustic music by Frogwater in a beautiful natural setting\,\nBenets Barbeque Food Truck available onsite\,\nSherpers Outfitter and Friends of Wehr Nature Store selling summer gear for your outdoor adventure needs\,\nFree pint glass good for discounts at all Milwaukee County Parks Beer Gardens\,\nPlant-inspired giveaways plus\,\nFree parking for the evening (value at $5 per car).\n\n $30 Non-Member\, $25 Friends of Wehr Member  \n6-Pack Deal!! Grab a few friends and take advantage of the six-pack deal: $140 ($40 off\, nonmembers) \nPre-registered ticket sales end on August 1st. Same-day registration welcome as space allows. \nDon’t miss out on pre-event workshops featuring our community partners\, Living Full Kombucha with “Kombucha 101” and East View Coffee Co. with “The Life of the Coffee Plant” taking place at 10am and 1pm. Must pre-register. \nThank you to our sponsor! \n \nThank you to our partners! \n \n    \nCancellation Policy: This event is rain or shine and in the case of bad weather\, the event will be held indoors. Tickets are non-refundable. Contact the Center for questions and more details 414-425-8550.
URL:https://www.wehrnaturecenter.com/event/brews-and-botany/
LOCATION:Wehr Nature Center
CATEGORIES:Adult,Special Event
ATTACH;FMTTYPE=image/png:https://www.wehrnaturecenter.com/wp-content/uploads/2025/03/brews-and-botany.png
END:VEVENT
END:VCALENDAR