BEGIN:VCALENDAR
VERSION:2.0
PRODID:-//Wehr Nature Center - ECPv6.15.20//NONSGML v1.0//EN
CALSCALE:GREGORIAN
METHOD:PUBLISH
X-WR-CALNAME:Wehr Nature Center
X-ORIGINAL-URL:https://www.wehrnaturecenter.com
X-WR-CALDESC:Events for Wehr Nature Center
REFRESH-INTERVAL;VALUE=DURATION:PT1H
X-Robots-Tag:noindex
X-PUBLISHED-TTL:PT1H
BEGIN:VTIMEZONE
TZID:America/Chicago
BEGIN:DAYLIGHT
TZOFFSETFROM:-0600
TZOFFSETTO:-0500
TZNAME:CDT
DTSTART:20250309T080000
END:DAYLIGHT
BEGIN:STANDARD
TZOFFSETFROM:-0500
TZOFFSETTO:-0600
TZNAME:CST
DTSTART:20251102T070000
END:STANDARD
BEGIN:DAYLIGHT
TZOFFSETFROM:-0600
TZOFFSETTO:-0500
TZNAME:CDT
DTSTART:20260308T080000
END:DAYLIGHT
BEGIN:STANDARD
TZOFFSETFROM:-0500
TZOFFSETTO:-0600
TZNAME:CST
DTSTART:20261101T070000
END:STANDARD
BEGIN:DAYLIGHT
TZOFFSETFROM:-0600
TZOFFSETTO:-0500
TZNAME:CDT
DTSTART:20270314T080000
END:DAYLIGHT
BEGIN:STANDARD
TZOFFSETFROM:-0500
TZOFFSETTO:-0600
TZNAME:CST
DTSTART:20271107T070000
END:STANDARD
END:VTIMEZONE
BEGIN:VEVENT
DTSTART;TZID=America/Chicago:20260328T183000
DTEND;TZID=America/Chicago:20260328T203000
DTSTAMP:20260423T192106
CREATED:20260122T193758Z
LAST-MODIFIED:20260322T222956Z
UID:10002235-1774722600-1774729800@www.wehrnaturecenter.com
SUMMARY:FULL Woodcocks\, Wood Frogs\, and Wine
DESCRIPTION:“Wine” while learning about Woodcocks and Wood Frogs. Hike to the pond to hear frog calls\, then view the unique shorebirds’ iconic “sky dance” in the oak savanna. Accessible options available; contact holly.walz@milwaukeecountywi.gov or by phone at 414-425-8550. \n A 21+ event with wine\, beer\, and non-alcoholic beverages and snacks provided. \nFees: $20 per person; $17 for Milwaukee County residents; $15 for Friends of Wehr members \nOnline registration is required two days before the program. 
URL:https://www.wehrnaturecenter.com/event/woodcocks-wood-frogs-and-wine-2/
LOCATION:Wehr Nature Center
CATEGORIES:Adult
ATTACH;FMTTYPE=image/png:https://www.wehrnaturecenter.com/wp-content/uploads/2024/12/woodcock-woodfrog-wine-sized.png
END:VEVENT
END:VCALENDAR