BEGIN:VCALENDAR
VERSION:2.0
PRODID:-//Wehr Nature Center - ECPv6.15.20//NONSGML v1.0//EN
CALSCALE:GREGORIAN
METHOD:PUBLISH
X-WR-CALNAME:Wehr Nature Center
X-ORIGINAL-URL:https://www.wehrnaturecenter.com
X-WR-CALDESC:Events for Wehr Nature Center
REFRESH-INTERVAL;VALUE=DURATION:PT1H
X-Robots-Tag:noindex
X-PUBLISHED-TTL:PT1H
BEGIN:VTIMEZONE
TZID:America/Chicago
BEGIN:DAYLIGHT
TZOFFSETFROM:-0600
TZOFFSETTO:-0500
TZNAME:CDT
DTSTART:20230312T080000
END:DAYLIGHT
BEGIN:STANDARD
TZOFFSETFROM:-0500
TZOFFSETTO:-0600
TZNAME:CST
DTSTART:20231105T070000
END:STANDARD
BEGIN:DAYLIGHT
TZOFFSETFROM:-0600
TZOFFSETTO:-0500
TZNAME:CDT
DTSTART:20240310T080000
END:DAYLIGHT
BEGIN:STANDARD
TZOFFSETFROM:-0500
TZOFFSETTO:-0600
TZNAME:CST
DTSTART:20241103T070000
END:STANDARD
BEGIN:DAYLIGHT
TZOFFSETFROM:-0600
TZOFFSETTO:-0500
TZNAME:CDT
DTSTART:20250309T080000
END:DAYLIGHT
BEGIN:STANDARD
TZOFFSETFROM:-0500
TZOFFSETTO:-0600
TZNAME:CST
DTSTART:20251102T070000
END:STANDARD
BEGIN:DAYLIGHT
TZOFFSETFROM:-0600
TZOFFSETTO:-0500
TZNAME:CDT
DTSTART:20260308T080000
END:DAYLIGHT
BEGIN:STANDARD
TZOFFSETFROM:-0500
TZOFFSETTO:-0600
TZNAME:CST
DTSTART:20261101T070000
END:STANDARD
END:VTIMEZONE
BEGIN:VEVENT
DTSTART;TZID=America/Chicago:20250906T153000
DTEND;TZID=America/Chicago:20250906T193000
DTSTAMP:20260420T181405
CREATED:20250703T145118Z
LAST-MODIFIED:20250904T165603Z
UID:10001962-1757172600-1757187000@www.wehrnaturecenter.com
SUMMARY:Shine Bright Through the Night 10th Anniversary Celebration & Walk!
DESCRIPTION:Hosted by Wehr Nature Center in support of MAACO \nThis accessible 2-mile fundraiser walk along Wehr’s trails supports the mission of Michelle’s Action Angels Community Outreach to help people with disabilities live fulfilling lives. \nRegistration includes:\nT-shirt Nature Walk Glow Sticks Games\nSensory Space Creature Meet\nChildren’s Nature Craft Face Painting\nS’mores Making Scavenger Hunt\nCake Music… and more! \nAvailable for purchase: •BBQ •50/50 Raffle •Bucket Raffle
URL:https://www.wehrnaturecenter.com/event/shine-bright-through-the-night-10th-anniversary-celebration-walk/
LOCATION:Wehr Nature Center
CATEGORIES:Adult,Children & Family,Clubs & Community,Fundraiser,Special Event
ATTACH;FMTTYPE=image/jpeg:https://www.wehrnaturecenter.com/wp-content/uploads/2024/06/shine-bright-start.jpg
END:VEVENT
BEGIN:VEVENT
DTSTART;TZID=America/Chicago:20240824T170000
DTEND;TZID=America/Chicago:20240824T200000
DTSTAMP:20260420T181405
CREATED:20250618T182853Z
LAST-MODIFIED:20250618T182853Z
UID:10001948-1724518800-1724529600@www.wehrnaturecenter.com
SUMMARY:Shine Bright through the Night
DESCRIPTION:Hosted by Wehr Nature Center in support of MAACO This accessible 2-mile fundraiser walk along Wehr’s trails supports the mission of Michelle’s Action Angels Community Outreach to help people with disabilities live fulfilling lives. \nRegistration includes:\nT-shirt\, Nature Walk\, Glow Sticks\, Sensory Space\, Creature Meet\, Children’s Nature Craft\, Face Painting\, S’mores Making\, Scavenger Hunt Games\, Cake\, Music… and more! \nAvailable for purchase: BBQ\, 50/50 Raffle\, Bucket Raffle\nFor more info and to register: https://bit.ly/MAACO25Walk
URL:https://www.wehrnaturecenter.com/event/shine-bright-through-the-night/
LOCATION:Wehr Nature Center
CATEGORIES:Adult,Children & Family,Clubs & Community,Fundraiser,Special Event
ATTACH;FMTTYPE=image/jpeg:https://www.wehrnaturecenter.com/wp-content/uploads/2024/06/shine-bright-start.jpg
END:VEVENT
BEGIN:VEVENT
DTSTART;TZID=America/Chicago:20240824T170000
DTEND;TZID=America/Chicago:20240824T200000
DTSTAMP:20260420T181405
CREATED:20240605T201318Z
LAST-MODIFIED:20251218T115429Z
UID:10001093-1724518800-1724529600@www.wehrnaturecenter.com
SUMMARY:Shine Bright through the Night
DESCRIPTION:Shine Bright Thru the Night Walk \nJoin us for an unforgettable evening at the Wehr Nature Center on Sat Aug 24\, 2024! Get ready to illuminate the night as we embark on a magical journey through nature’s wonders\, all for a very important cause. \nThis in-person event promises an *enchanting* experience for all ages. As the sun sets\, we’ll come together to celebrate the beauty of the night sky. With twinkling stars above and the serene sounds of nature around us\, we’ll embark on a night walk like no other. \nExplore the trails\, guided by the soft glow of lanterns\, and discover the hidden treasures of the Wehr Nature Center. \nAs we stroll through the illuminated pathways\, our knowledgeable guides will share fascinating insights about the nocturnal creatures that call this place home. You’ll learn about their habits\, their unique adaptations\, and how they *shine bright* in the darkness. \nSo mark your calendars and get ready to *shine bright* with us at the Shine Bright Thru the Night Walk benefiting Michelle’s Action Angels. Don’t miss this opportunity to connect with nature\, create lasting memories\, and experience the magic of the night. \nDisclaimer: This event is subject to weather conditions. In case of inclement weather\, updates will be posted on our website and social media channels. \nEarly-bird Ticket (ends June 30th): $20\, General Admission: $25\, Children 5 and under: FREE
URL:https://www.wehrnaturecenter.com/event/1569/
LOCATION:Wehr Nature Center
CATEGORIES:Adult,Children & Family,Clubs & Community,Fundraiser,Special Event
ATTACH;FMTTYPE=image/jpeg:https://www.wehrnaturecenter.com/wp-content/uploads/2024/06/shine-bright-start.jpg
END:VEVENT
END:VCALENDAR