BEGIN:VCALENDAR
VERSION:2.0
PRODID:-//Wehr Nature Center - ECPv6.15.20//NONSGML v1.0//EN
CALSCALE:GREGORIAN
METHOD:PUBLISH
X-WR-CALNAME:Wehr Nature Center
X-ORIGINAL-URL:https://www.wehrnaturecenter.com
X-WR-CALDESC:Events for Wehr Nature Center
REFRESH-INTERVAL;VALUE=DURATION:PT1H
X-Robots-Tag:noindex
X-PUBLISHED-TTL:PT1H
BEGIN:VTIMEZONE
TZID:America/Chicago
BEGIN:DAYLIGHT
TZOFFSETFROM:-0600
TZOFFSETTO:-0500
TZNAME:CDT
DTSTART:20230312T080000
END:DAYLIGHT
BEGIN:STANDARD
TZOFFSETFROM:-0500
TZOFFSETTO:-0600
TZNAME:CST
DTSTART:20231105T070000
END:STANDARD
BEGIN:DAYLIGHT
TZOFFSETFROM:-0600
TZOFFSETTO:-0500
TZNAME:CDT
DTSTART:20240310T080000
END:DAYLIGHT
BEGIN:STANDARD
TZOFFSETFROM:-0500
TZOFFSETTO:-0600
TZNAME:CST
DTSTART:20241103T070000
END:STANDARD
BEGIN:DAYLIGHT
TZOFFSETFROM:-0600
TZOFFSETTO:-0500
TZNAME:CDT
DTSTART:20250309T080000
END:DAYLIGHT
BEGIN:STANDARD
TZOFFSETFROM:-0500
TZOFFSETTO:-0600
TZNAME:CST
DTSTART:20251102T070000
END:STANDARD
END:VTIMEZONE
BEGIN:VEVENT
DTSTART;VALUE=DATE:20241226
DTEND;VALUE=DATE:20241227
DTSTAMP:20260421T074124
CREATED:20240912T150148Z
LAST-MODIFIED:20240912T150434Z
UID:10001156-1735171200-1735257599@www.wehrnaturecenter.com
SUMMARY:Free Parking Thursday
DESCRIPTION:
URL:https://www.wehrnaturecenter.com/event/free-parking-thursday-2/
LOCATION:Wehr Nature Center
END:VEVENT
BEGIN:VEVENT
DTSTART;VALUE=DATE:20241224
DTEND;VALUE=DATE:20241227
DTSTAMP:20260421T074124
CREATED:20240912T171734Z
LAST-MODIFIED:20241204T175208Z
UID:10001170-1734998400-1735257599@www.wehrnaturecenter.com
SUMMARY:Building is Closed
DESCRIPTION:Enjoy the Trails!
URL:https://www.wehrnaturecenter.com/event/building-is-closed-2/
LOCATION:Wehr Nature Center
ATTACH;FMTTYPE=image/webp:https://www.wehrnaturecenter.com/wp-content/uploads/2024/04/Wehr-3.webp
END:VEVENT
BEGIN:VEVENT
DTSTART;TZID=America/Chicago:20241221T150000
DTEND;TZID=America/Chicago:20241221T160000
DTSTAMP:20260421T074124
CREATED:20240911T170341Z
LAST-MODIFIED:20240911T170341Z
UID:10001132-1734793200-1734796800@www.wehrnaturecenter.com
SUMMARY:Operation Recon Nature - Families
DESCRIPTION:Veterans from all service branches – Active Duty\, Reserve\, and Retired personnel and their families are invited to attend monthly walks at Wehr Nature Center. For approximately one to one and a half hours\, we will travel on the trails of Wehr Nature Center to share camaraderie and experience seasonal nature happenings. \nNo fee but online registration is required so we may contact you in preparation and case of cancelation. Contact holly.walz@milwaukeecountywi.gov with questions.
URL:https://www.wehrnaturecenter.com/event/operation-recon-nature-families-5/
LOCATION:Wehr Nature Center
CATEGORIES:Children & Family,Other Activities
ATTACH;FMTTYPE=image/webp:https://www.wehrnaturecenter.com/wp-content/uploads/2024/04/OperationReconNature-1024x768-1.webp
END:VEVENT
BEGIN:VEVENT
DTSTART;TZID=America/Chicago:20241221T060000
DTEND;TZID=America/Chicago:20241221T080000
DTSTAMP:20260421T074124
CREATED:20240922T212535Z
LAST-MODIFIED:20241216T190628Z
UID:10001178-1734760800-1734768000@www.wehrnaturecenter.com
SUMMARY:Winter Solstice Sunrise Celebration
DESCRIPTION:Join David and Sarah Stokes for a Celebration of “the day the Sun stood still”.  Winter Solstice marks the longest night\, the shortest ‘day’ (in the Northern Hemisphere)\, and a time to reflect\, review\, and hope. Beginning inside the warmth of the Nature Center we will sing songs\, listen to stories\, and share. Then just before sunrise\, we will head outdoors to celebrate the morning. \nAll ages are welcome. \n$5 per family (FOW Member); $7 per family (non-member) \nReservations guarantee a space. Walk-ins are welcome as space allows.
URL:https://www.wehrnaturecenter.com/event/winter-soltice-celebration/
LOCATION:Wehr Nature Center
CATEGORIES:Adult,Children & Family
ATTACH;FMTTYPE=image/png:https://www.wehrnaturecenter.com/wp-content/uploads/2024/09/Winter-Solstice-Calendar-Image-17.png
END:VEVENT
BEGIN:VEVENT
DTSTART;TZID=America/Chicago:20241216T093000
DTEND;TZID=America/Chicago:20241216T103000
DTSTAMP:20260421T074124
CREATED:20240911T164632Z
LAST-MODIFIED:20240911T164849Z
UID:10001128-1734341400-1734345000@www.wehrnaturecenter.com
SUMMARY:Nature Nauts: Fantastic Fox
DESCRIPTION:Little pups are invited to trot out and discover our crafty and cool fox neighbors. Learn fox adaptations and take a short stroll (weather permitting) in search of Fox clues. NatureNauts will make and take home a fox craft. \n\n\nA program for 4-6-year-olds with an adult. \nFee: $12 per person; $10 for Milwaukee County residents; $7 for Friends of Wehr (FOW) members; $5 parking fee applies for non-FOW members. \nOnline registration is required two days prior to the program.
URL:https://www.wehrnaturecenter.com/event/nature-nauts-fantastic-fox-2/
LOCATION:Wehr Nature Center
CATEGORIES:Children & Family
ATTACH;FMTTYPE=image/jpeg:https://www.wehrnaturecenter.com/wp-content/uploads/2024/09/Red-Fox-Photo-NatureNauts-DEC-2024-WI-DNR.jpg
END:VEVENT
BEGIN:VEVENT
DTSTART;TZID=America/Chicago:20241215T130000
DTEND;TZID=America/Chicago:20241215T140000
DTSTAMP:20260421T074124
CREATED:20240911T164554Z
LAST-MODIFIED:20240911T164554Z
UID:10001127-1734267600-1734271200@www.wehrnaturecenter.com
SUMMARY:Nature Nauts: Fantastic Fox
DESCRIPTION:Little pups are invited to trot out and discover our crafty and cool fox neighbors. Learn fox adaptations and take a short stroll (weather permitting) in search of Fox clues. NatureNauts will make and take home a fox craft. \n\n\nA program for 4-6-year-olds with an adult. \nFee: $12 per person; $10 for Milwaukee County residents; $7 for Friends of Wehr (FOW) members; $5 parking fee applies for non-FOW members. \nOnline registration is required two days prior to the program.
URL:https://www.wehrnaturecenter.com/event/nature-nauts-fantastic-fox/
LOCATION:Wehr Nature Center
CATEGORIES:Children & Family
ATTACH;FMTTYPE=image/jpeg:https://www.wehrnaturecenter.com/wp-content/uploads/2024/09/Red-Fox-Photo-NatureNauts-DEC-2024-WI-DNR.jpg
END:VEVENT
BEGIN:VEVENT
DTSTART;TZID=America/Chicago:20241215T090000
DTEND;TZID=America/Chicago:20241215T120000
DTSTAMP:20260421T074124
CREATED:20240912T173854Z
LAST-MODIFIED:20251218T115334Z
UID:10001171-1734253200-1734264000@www.wehrnaturecenter.com
SUMMARY:Christmas Bird Count
DESCRIPTION:Community Science volunteers needed to count birds at Wehr and sites within southern Milwaukee County for National Audubon’s 125th CBC. All ages/experience levels are welcome. Participants bird for as long as desired at assigned sites or at Wehr with a naturalist. \nAccessible count options are available; please contact Holly at 414-425-8550. \nFree\, but register before December 10 by emailing Holly at holly.walz@milwaukeecountywi.gov
URL:https://www.wehrnaturecenter.com/event/christmas-bird-count/
LOCATION:Wehr Nature Center
ATTACH;FMTTYPE=image/png:https://www.wehrnaturecenter.com/wp-content/uploads/2024/09/Chistmas-Bird-Count-Calendar-Image-14.png
END:VEVENT
BEGIN:VEVENT
DTSTART;TZID=America/Chicago:20241214T173000
DTEND;TZID=America/Chicago:20241214T193000
DTSTAMP:20260421T074124
CREATED:20240911T195415Z
LAST-MODIFIED:20241203T200542Z
UID:10001140-1734197400-1734204600@www.wehrnaturecenter.com
SUMMARY:Owl Prowl for Families @ Grant Park
DESCRIPTION:Join a naturalist for an evening with the owls. An interactive program will highlight the amazing adaptations of our nocturnal neighbors. Come prepared to walk in search of great-horned and Eastern screech owls. Each child will dissect an owl pellet to discover what owls eat for dinner! \nRecommended for ages 6 and older. \nFee: $12 per person; $10 for Milwaukee County residents; $7 for Friends of Wehr (FOW) members \nOnline registration is required two days prior to the program.
URL:https://www.wehrnaturecenter.com/event/owl-prowl-for-families-grant-park/
LOCATION:Grant Park Clubhouse\, 100 Hawthorne Ave.\, South Milwaukee
CATEGORIES:Children & Family
ATTACH;FMTTYPE=image/jpeg:https://www.wehrnaturecenter.com/wp-content/uploads/2024/09/Owl-Photo-NatureNauts-OCT-2024-WI-DNR.jpg
END:VEVENT
BEGIN:VEVENT
DTSTART;TZID=America/Chicago:20241213T190000
DTEND;TZID=America/Chicago:20241213T210000
DTSTAMP:20260421T074124
CREATED:20240911T195248Z
LAST-MODIFIED:20241211T170635Z
UID:10001139-1734116400-1734123600@www.wehrnaturecenter.com
SUMMARY:Owl Prowl for Adults @ Wehr (FULL)
DESCRIPTION:Join a naturalist for an evening out with the owls. An interactive program will highlight the habits and adaptations of our nocturnal neighbors. Then we will walk the trails listening and looking for great-horned and Eastern screech owls. \nFee: $12 per person; $10 for Milwaukee County residents; $7 for Friends of Wehr (FOW) members; $5 parking fee applies for non-FOW members. \nOnline registration is required two days prior to the program.
URL:https://www.wehrnaturecenter.com/event/owl-prowl-for-adults-wehr/
LOCATION:Wehr Nature Center
CATEGORIES:Adult
ATTACH;FMTTYPE=image/jpeg:https://www.wehrnaturecenter.com/wp-content/uploads/2024/09/Owl-Photo-NatureNauts-OCT-2024-WI-DNR.jpg
END:VEVENT
BEGIN:VEVENT
DTSTART;TZID=America/Chicago:20241209T110000
DTEND;TZID=America/Chicago:20241209T120000
DTSTAMP:20260421T074124
CREATED:20240911T163318Z
LAST-MODIFIED:20240911T163420Z
UID:10001122-1733742000-1733745600@www.wehrnaturecenter.com
SUMMARY:Little Wonders for Threes: Tracks and Trails
DESCRIPTION:A program for toddlers to enjoy with their favorite adult. \n\n\n\n\nTots will become nature detectives as we search for the clues animals leave behind. We will read Forest Tracks by Dee Dee Duffy\, use stampers to create footprint art\, and explore outdoors looking for animal signs.
URL:https://www.wehrnaturecenter.com/event/little-wonders-for-threes-tracks-and-trails/
LOCATION:Wehr Nature Center
CATEGORIES:Children & Family
ATTACH;FMTTYPE=image/jpeg:https://www.wehrnaturecenter.com/wp-content/uploads/2024/09/CeCe_and_Mom_LW_Tracks_and_Trails_2022-scaled.jpg
END:VEVENT
BEGIN:VEVENT
DTSTART;TZID=America/Chicago:20241209T093000
DTEND;TZID=America/Chicago:20241209T103000
DTSTAMP:20260421T074124
CREATED:20240911T163238Z
LAST-MODIFIED:20240911T163238Z
UID:10001121-1733736600-1733740200@www.wehrnaturecenter.com
SUMMARY:Little Wonders for Twos: Tracks and Trails
DESCRIPTION:A program for toddlers to enjoy with their favorite adult. \n\n\n\n\nTots will become nature detectives as we search for the clues animals leave behind. We will read Forest Tracks by Dee Dee Duffy\, use stampers to create footprint art\, and explore outdoors looking for animal signs.
URL:https://www.wehrnaturecenter.com/event/little-wonders-for-twos-tracks-and-trails/
LOCATION:Wehr Nature Center
CATEGORIES:Children & Family
ATTACH;FMTTYPE=image/jpeg:https://www.wehrnaturecenter.com/wp-content/uploads/2024/09/CeCe_and_Mom_LW_Tracks_and_Trails_2022-scaled.jpg
END:VEVENT
BEGIN:VEVENT
DTSTART;TZID=America/Chicago:20241208T130000
DTEND;TZID=America/Chicago:20241208T143000
DTSTAMP:20260421T074124
CREATED:20240912T183038Z
LAST-MODIFIED:20240930T204336Z
UID:10001173-1733662800-1733668200@www.wehrnaturecenter.com
SUMMARY:Nature Wizard for Families: Talking Turkeys
DESCRIPTION:We’ll learn how to punt\, cluck\, and gobble like turkey as we explore the lives of our wild turkey neighbors. Families will go on a guided walk to look for turkeys and their signs along Wehr’s trails. \nRecommended for ages 4 and older. \nFee: $7 per family; $5 for Friends of Wehr members \nRegistration reserves your spot. Walk-ins are welcome as space allows.
URL:https://www.wehrnaturecenter.com/event/nature-wizard-for-families-talking-turkeys/
LOCATION:Wehr Nature Center
CATEGORIES:Children & Family
ATTACH;FMTTYPE=image/png:https://www.wehrnaturecenter.com/wp-content/uploads/2024/09/turkey-Calendar-Image-12.png
END:VEVENT
BEGIN:VEVENT
DTSTART;TZID=America/Chicago:20241208T130000
DTEND;TZID=America/Chicago:20241208T143000
DTSTAMP:20260421T074124
CREATED:20240911T193130Z
LAST-MODIFIED:20240911T193154Z
UID:10001134-1733662800-1733668200@www.wehrnaturecenter.com
SUMMARY:Guided Forest Bathing Walk
DESCRIPTION:Unplug\, slow down\, and de-stress from your daily routine. Inspired by the Japanese practice of Shinrin-yoku\, a certified forest bathing guide will lead you through a series of sensory-based invitations designed to relax\, restore\, and deepen your relationship with the natural world. \nFor ages 18+ \nFee: $35 per person (includes parking); $25 for Friends of Wehr members \nOnline registration is required two days before the program
URL:https://www.wehrnaturecenter.com/event/guided-forest-bathing-walk-3/
LOCATION:Wehr Nature Center
CATEGORIES:Adult
ATTACH;FMTTYPE=image/webp:https://www.wehrnaturecenter.com/wp-content/uploads/2024/04/ForestBathing.webp
END:VEVENT
BEGIN:VEVENT
DTSTART;TZID=America/Chicago:20241207T173000
DTEND;TZID=America/Chicago:20241207T193000
DTSTAMP:20260421T074124
CREATED:20240911T200418Z
LAST-MODIFIED:20241203T202536Z
UID:10001141-1733592600-1733599800@www.wehrnaturecenter.com
SUMMARY:Owl Prowl for Youth Groups FULL
DESCRIPTION:Have your Youth Group join our naturalists for an evening with the owls. An interactive program will highlight the amazing adaptations of these nighttime fliers and children will dissect an owl pellet to discover what owls eat for dinner! Come prepared to walk in search of great-horned and Eastern screech owls. \nRecommended for ages 6 and older. \nFee: $12 per person; $10 for Milwaukee County residents; $7 for members of Friends of Wehr.  \nOnline registration is required two days before the program.
URL:https://www.wehrnaturecenter.com/event/owl-prowl-for-youth-groups/
LOCATION:Wehr Nature Center
CATEGORIES:Children & Family
ATTACH;FMTTYPE=image/jpeg:https://www.wehrnaturecenter.com/wp-content/uploads/2024/09/Owl-Photo-NatureNauts-OCT-2024-WI-DNR.jpg
END:VEVENT
BEGIN:VEVENT
DTSTART;TZID=America/Chicago:20241204T090000
DTEND;TZID=America/Chicago:20241204T110000
DTSTAMP:20260421T074124
CREATED:20241204T182353Z
LAST-MODIFIED:20241204T182353Z
UID:10001297-1733302800-1733310000@www.wehrnaturecenter.com
SUMMARY:Wehr Camera Club
DESCRIPTION:Wehr Camera Club has been sharing their passion for nature and photography with our Wehr community for 40 years. The group is part of Wisconsin Area Camera Clubs Organization and hosts photography competitions as well as education programs open to the public. Public programs are held the 2nd Saturday\, year-round\, from 9-11 am.
URL:https://www.wehrnaturecenter.com/event/wehr-camera-club-3/
LOCATION:Wehr Nature Center
CATEGORIES:Clubs & Community
ATTACH;FMTTYPE=image/webp:https://www.wehrnaturecenter.com/wp-content/uploads/2024/04/CameraClub.webp
END:VEVENT
BEGIN:VEVENT
DTSTART;TZID=America/Chicago:20241201T130000
DTEND;TZID=America/Chicago:20241201T150000
DTSTAMP:20260421T074124
CREATED:20240912T162217Z
LAST-MODIFIED:20251218T115334Z
UID:10001169-1733058000-1733065200@www.wehrnaturecenter.com
SUMMARY:Pop-Up Nature: Birding by Numbers
DESCRIPTION:Gather the family to learn about birding and becoming a community scientist. We’ll read a story and go on a birding scavenger hunt through the nature center. \nRecommended for Ages 5 and older. \nNo fee or registration required; $5 parking fee applies to non-members of FOW
URL:https://www.wehrnaturecenter.com/event/pop-up-nature-birding-by-numbers/
LOCATION:Wehr Nature Center
CATEGORIES:Children & Family
ATTACH;FMTTYPE=image/webp:https://www.wehrnaturecenter.com/wp-content/uploads/2024/04/Pop-Up-Nature-scaled-1.webp
END:VEVENT
BEGIN:VEVENT
DTSTART;VALUE=DATE:20241129
DTEND;VALUE=DATE:20241130
DTSTAMP:20260421T074124
CREATED:20240912T161544Z
LAST-MODIFIED:20240912T161544Z
UID:10001167-1732878945-1732878945@www.wehrnaturecenter.com
SUMMARY:Building is Closed
DESCRIPTION:
URL:https://www.wehrnaturecenter.com/event/building-is-closed/2024-11-29/
LOCATION:Wehr Nature Center
END:VEVENT
BEGIN:VEVENT
DTSTART;VALUE=DATE:20241128
DTEND;VALUE=DATE:20241129
DTSTAMP:20260421T074124
CREATED:20240912T161544Z
LAST-MODIFIED:20240912T161544Z
UID:10001166-1732752000-1732838399@www.wehrnaturecenter.com
SUMMARY:Building is Closed
DESCRIPTION:
URL:https://www.wehrnaturecenter.com/event/building-is-closed/2024-11-28/
LOCATION:Wehr Nature Center
END:VEVENT
BEGIN:VEVENT
DTSTART;VALUE=DATE:20241128
DTEND;VALUE=DATE:20241129
DTSTAMP:20260421T074124
CREATED:20240912T150638Z
LAST-MODIFIED:20250130T153423Z
UID:10001159-1732752000-1732838399@www.wehrnaturecenter.com
SUMMARY:Free Parking Thursday
DESCRIPTION:
URL:https://www.wehrnaturecenter.com/event/free-parking-thursday-4/2024-11-28/
LOCATION:Wehr Nature Center
END:VEVENT
BEGIN:VEVENT
DTSTART;TZID=America/Chicago:20241127T103000
DTEND;TZID=America/Chicago:20241127T113000
DTSTAMP:20260421T074124
CREATED:20240912T161006Z
LAST-MODIFIED:20240912T161008Z
UID:10000056-1732703400-1732707000@www.wehrnaturecenter.com
SUMMARY:Hike for Health
DESCRIPTION:Explore Wehr’s trails together with fellow community members and enjoy camaraderie\, exercise and fun. No signup necessary. The group meets on Wednesdays at 10:30 am in front of the Visitor Center. No fee or registration required\, $5 parking fee applies to non-FOW members.
URL:https://www.wehrnaturecenter.com/event/hike-for-health-2-2/
LOCATION:Wehr Nature Center
CATEGORIES:Clubs & Community
ATTACH;FMTTYPE=image/webp:https://www.wehrnaturecenter.com/wp-content/uploads/2024/04/HikeforHealth.webp
END:VEVENT
BEGIN:VEVENT
DTSTART;TZID=America/Chicago:20241123T130000
DTEND;TZID=America/Chicago:20241123T150000
DTSTAMP:20260421T074124
CREATED:20240912T162005Z
LAST-MODIFIED:20240923T212113Z
UID:10001168-1732366800-1732374000@www.wehrnaturecenter.com
SUMMARY:Pop-Up Nature: Cool Cranes
DESCRIPTION:Gather the family to learn about cranes through an interactive story\, a crane dance\, and a scavenger hunt. \nRecommended for Ages 5 and older. \nNo fee or registration required; $5 parking fee applies to non-members of FOW
URL:https://www.wehrnaturecenter.com/event/pop-up-nature-cool-cranes/
LOCATION:Wehr Nature Center
CATEGORIES:Children & Family
ATTACH;FMTTYPE=image/png:https://www.wehrnaturecenter.com/wp-content/uploads/2024/09/Cool-Cranes-Calendar-Image-11.png
END:VEVENT
BEGIN:VEVENT
DTSTART;TZID=America/Chicago:20241120T190000
DTEND;TZID=America/Chicago:20241120T210000
DTSTAMP:20260421T074124
CREATED:20240725T153353Z
LAST-MODIFIED:20251218T115429Z
UID:10001107-1732129200-1732136400@www.wehrnaturecenter.com
SUMMARY:Wisconsin Metro Audubon Society
DESCRIPTION:Wisconsin Metro Audubon Society (WMAS) is a chapter of the National Audubon Society that encourages environmental stewardship through education and conservation. WMAS collaborates with Wehr to offer birding opportunities such as the Christmas Bird Count\, The Big Sit\, and leads the weekly Wehr Birders group. Public programs are typically held on the third Wednesday\, February to April and September to November from 7-9 pm. \nThis month’s topic: \nHistory of the Cedar Grove Ornithological Research Station band migrating raptors and track long-term avian migratory trends with Daniel Erickson \nThe western shore of Lake Michigan has long been known to concentrate birds of prey during their annual southward migration each fall. To study this movement scientists established Cedar Grove Ornithological Research Station (CGORS)\, the longest continuous raptor banding operation in North America\, to band migrating raptors and track long-term avian migratory trends. Station banding director Danny Erickson will discuss the history of CGORS\, WI raptor identification and banding\, and the collaborative work the station does contributing to our knowledge of these charismatic birds and the conservation of raptor populations. Erickson is a field biologist from Milwaukee who studies raptor movement and population trends through banding. Since 2021\, he oversees the count and banding operations at CGORS each fall. He is currently a MSc student at UW-Green Bay studying novel disease in migrating Sharp-shinned Hawks. Website: https://cgors.org/
URL:https://www.wehrnaturecenter.com/event/wisconsin-metro-audubon-society/
LOCATION:Wehr Nature Center
CATEGORIES:Clubs & Community
ATTACH;FMTTYPE=image/png:https://www.wehrnaturecenter.com/wp-content/uploads/2024/07/Screenshot-2024-07-25-103327.png
END:VEVENT
BEGIN:VEVENT
DTSTART;TZID=America/Chicago:20241120T103000
DTEND;TZID=America/Chicago:20241120T113000
DTSTAMP:20260421T074124
CREATED:20240322T200533Z
LAST-MODIFIED:20240429T170441Z
UID:10000055-1732098600-1732102200@www.wehrnaturecenter.com
SUMMARY:Hike for Health
DESCRIPTION:Explore Wehr’s trails together with fellow community members and enjoy camaraderie\, exercise and fun. No signup necessary. The group meets on Wednesdays at 10:30 am in front of the Visitor Center. No fee or registration required\, $5 parking fee applies to non-FOW members.
URL:https://www.wehrnaturecenter.com/event/hike-for-health-2/2024-11-20/
LOCATION:Wehr Nature Center
CATEGORIES:Clubs & Community
ATTACH;FMTTYPE=image/webp:https://www.wehrnaturecenter.com/wp-content/uploads/2024/04/HikeforHealth.webp
END:VEVENT
BEGIN:VEVENT
DTSTART;TZID=America/Chicago:20241118T093000
DTEND;TZID=America/Chicago:20241118T103000
DTSTAMP:20260421T074124
CREATED:20240911T164352Z
LAST-MODIFIED:20240922T193534Z
UID:10001126-1731922200-1731925800@www.wehrnaturecenter.com
SUMMARY:Nature Nauts: Little Honkers
DESCRIPTION:Discover why Canada Geese fly south for the winter\, along with other goose secrets. Make a goose craft that “honks”\, and enjoy the puppet show Goose’s Fall Adventure. We will take a short walk in search of geese. \n\n\nA program for 4-6-year-olds with an adult. \nFee: $12 per person; $10 for Milwaukee County residents; $7 for Friends of Wehr (FOW) members; $5 parking fee applies for non-FOW members. \nOnline registration is required two days prior to the program.
URL:https://www.wehrnaturecenter.com/event/nature-nauts-little-honkers-2/
LOCATION:Wehr Nature Center
CATEGORIES:Children & Family
ATTACH;FMTTYPE=image/png:https://www.wehrnaturecenter.com/wp-content/uploads/2024/09/Canada-Goose-Calendar-Image-9.png
END:VEVENT
BEGIN:VEVENT
DTSTART;TZID=America/Chicago:20241117T130000
DTEND;TZID=America/Chicago:20241117T140000
DTSTAMP:20260421T074124
CREATED:20240911T164308Z
LAST-MODIFIED:20240922T193616Z
UID:10001125-1731848400-1731852000@www.wehrnaturecenter.com
SUMMARY:Nature Nauts: Little Honkers
DESCRIPTION:Discover why Canada Geese fly south for the winter\, along with other goose secrets. Make a goose craft that “honks”\, and enjoy the puppet show Goose’s Fall Adventure. We will take a short walk in search of geese. \n\n\nA program for 4-6-year-olds with an adult. \nFee: $12 per person; $10 for Milwaukee County residents; $7 for Friends of Wehr (FOW) members; $5 parking fee applies for non-FOW members. \nOnline registration is required two days prior to the program.
URL:https://www.wehrnaturecenter.com/event/nature-nauts-little-honkers/
LOCATION:Wehr Nature Center
CATEGORIES:Children & Family
ATTACH;FMTTYPE=image/png:https://www.wehrnaturecenter.com/wp-content/uploads/2024/09/Canada-Goose-Calendar-Image-9.png
END:VEVENT
BEGIN:VEVENT
DTSTART;TZID=America/Chicago:20241116T150000
DTEND;TZID=America/Chicago:20241116T160000
DTSTAMP:20260421T074124
CREATED:20240911T165941Z
LAST-MODIFIED:20240911T170031Z
UID:10001131-1731769200-1731772800@www.wehrnaturecenter.com
SUMMARY:Operation Recon Nature - Families
DESCRIPTION:Veterans from all service branches – Active Duty\, Reserve\, and Retired personnel and their families are invited to attend monthly walks at Wehr Nature Center. For approximately one to one and a half hours\, we will travel on the trails of Wehr Nature Center to share camaraderie and experience seasonal nature happenings. \nNo fee but online registration is required so we may contact you in preparation and case of cancelation. Contact holly.walz@milwaukeecountywi.gov with questions.
URL:https://www.wehrnaturecenter.com/event/operation-recon-nature-families-4/
LOCATION:Wehr Nature Center
CATEGORIES:Adult,Other Activities
ATTACH;FMTTYPE=image/webp:https://www.wehrnaturecenter.com/wp-content/uploads/2024/04/OperationReconNature-1024x768-1.webp
END:VEVENT
BEGIN:VEVENT
DTSTART;TZID=America/Chicago:20241116T130000
DTEND;TZID=America/Chicago:20241116T150000
DTSTAMP:20260421T074124
CREATED:20240911T192940Z
LAST-MODIFIED:20240911T193038Z
UID:10001133-1731762000-1731769200@www.wehrnaturecenter.com
SUMMARY:Guided Forest Bathing Walk
DESCRIPTION:Unplug\, slow down\, and de-stress from your daily routine. Inspired by the Japanese practice of Shinrin-yoku\, a certified forest bathing guide will lead you through a series of sensory-based invitations designed to relax\, restore\, and deepen your relationship with the natural world. \nFor ages 18+ \nFee: $35 per person (includes parking); $25 for Friends of Wehr members \nOnline registration is required two days before the program
URL:https://www.wehrnaturecenter.com/event/guided-forest-bathing-walk-2/
LOCATION:Wehr Nature Center
CATEGORIES:Adult
ATTACH;FMTTYPE=image/webp:https://www.wehrnaturecenter.com/wp-content/uploads/2024/04/ForestBathing.webp
END:VEVENT
BEGIN:VEVENT
DTSTART;TZID=America/Chicago:20241115T190000
DTEND;TZID=America/Chicago:20241115T210000
DTSTAMP:20260421T074124
CREATED:20240917T221705Z
LAST-MODIFIED:20241028T165813Z
UID:10001174-1731697200-1731704400@www.wehrnaturecenter.com
SUMMARY:Full Moon Walk
DESCRIPTION:Ever wonder where the terms “lunatic” and “honeymoon” came from? Learn the facts and folklore about our closest celestial neighbor: the Moon! Explore Wehr Nature Center on a 1-hour hike under the “Beaver Moon”. Enjoy campfire treats following the hike. \nFor ages 6 and older. \nFees: $12 per person; $10 for Milwaukee County residents; $7 for members of Friends of Wehr. \nRegistration is required two days before the program.
URL:https://www.wehrnaturecenter.com/event/full-moon-walk/
LOCATION:Wehr Nature Center
CATEGORIES:Children & Family
ATTACH;FMTTYPE=image/jpeg:https://www.wehrnaturecenter.com/wp-content/uploads/2024/09/Full-Moon-Hike-scaled.jpg
END:VEVENT
BEGIN:VEVENT
DTSTART;TZID=America/Chicago:20241113T103000
DTEND;TZID=America/Chicago:20241113T113000
DTSTAMP:20260421T074124
CREATED:20240322T200533Z
LAST-MODIFIED:20240429T170441Z
UID:10000054-1731493800-1731497400@www.wehrnaturecenter.com
SUMMARY:Hike for Health
DESCRIPTION:Explore Wehr’s trails together with fellow community members and enjoy camaraderie\, exercise and fun. No signup necessary. The group meets on Wednesdays at 10:30 am in front of the Visitor Center. No fee or registration required\, $5 parking fee applies to non-FOW members.
URL:https://www.wehrnaturecenter.com/event/hike-for-health-2/2024-11-13/
LOCATION:Wehr Nature Center
CATEGORIES:Clubs & Community
ATTACH;FMTTYPE=image/webp:https://www.wehrnaturecenter.com/wp-content/uploads/2024/04/HikeforHealth.webp
END:VEVENT
BEGIN:VEVENT
DTSTART;TZID=America/Chicago:20241111T110000
DTEND;TZID=America/Chicago:20241111T120000
DTSTAMP:20260421T074124
CREATED:20240911T163024Z
LAST-MODIFIED:20240911T163024Z
UID:10001120-1731322800-1731326400@www.wehrnaturecenter.com
SUMMARY:Little Wonders for Threes: Eager Beavers
DESCRIPTION:A program for toddlers to enjoy with their favorite adult. \n\n\nYour toddler will be as busy as a beaver as we learn about these remarkable rodents.  We will make and wear beaver costumes\, chew our snacks like a beaver\, and walk to the pond to look for beaver clues.
URL:https://www.wehrnaturecenter.com/event/little-wonders-for-threes-eager-beavers/
LOCATION:Wehr Nature Center
CATEGORIES:Children & Family
ATTACH;FMTTYPE=image/jpeg:https://www.wehrnaturecenter.com/wp-content/uploads/2024/09/Nature-Wizard-Beavers.jpg
END:VEVENT
END:VCALENDAR